BEGIN:VCALENDAR
VERSION:2.0
PRODID:-//ChamberMaster//Event Calendar 2.0//EN
METHOD:PUBLISH
X-PUBLISHED-TTL:P3D
REFRESH-INTERVAL:P3D
CALSCALE:GREGORIAN
BEGIN:VEVENT
DTSTART:20160804T233000Z
DTEND:20160805T013000Z
X-MICROSOFT-CDO-ALLDAYEVENT:FALSE
SUMMARY:Live Music with Russ Kennedy
DESCRIPTION:Join us for live music on Thursday nights\, July 28th and August 4th and the 18th. Russ Kennedy\, Singer and Guitarist\, one of the best in adult contemporary\, classic oldies & originals\, will be entertaining you at Campagna Restaurant. Russ's rich\, smooth vocals and unique guitar style are his trademark sounds. He has performed alongside Rock 'n Roll Hall of famer Dion (The Wanderer) & Don McLean. Always easy listening\, tasteful\, classy & jazzy to set the mood or kick it up a notch.
X-ALT-DESC;FMTTYPE=text/html:Join us for live music on Thursday nights\, July 28th and August 4th and the 18th. Russ Kennedy\, Singer and Guitarist\, one of the best in adult contemporary\, classic oldies &amp\; originals\, will be entertaining you at Campagna Restaurant. Russ&#39\;s rich\, smooth vocals and unique guitar style are his trademark sounds. He has performed alongside Rock &lsquo\;n Roll Hall of famer Dion (The Wanderer) &amp\; Don McLean. Always easy listening\, tasteful\, classy &amp\; jazzy to set the mood or kick it up a notch.
LOCATION:Campagna Restaurant 2452 State Route 9 Malta\, NY 12020
UID:e.2254.17211
SEQUENCE:3
DTSTAMP:20260421T003513Z
URL:http://saratogatourism-gzcms.preview.gochambermaster.com/events/details/live-music-with-russ-kennedy-08-04-2016-17211
END:VEVENT

END:VCALENDAR
