BEGIN:VCALENDAR
VERSION:2.0
PRODID:-//ChamberMaster//Event Calendar 2.0//EN
METHOD:PUBLISH
X-PUBLISHED-TTL:P3D
REFRESH-INTERVAL:P3D
CALSCALE:GREGORIAN
BEGIN:VEVENT
DTSTART:20160819T233000Z
DTEND:20160820T020000Z
X-MICROSOFT-CDO-ALLDAYEVENT:FALSE
SUMMARY:LIVE! Music Series
DESCRIPTION:Howard Fishman & Band Friday\, Critically-acclaimed composer\, guitarist\, songwriter\, singer and bandleader Howard Fishman has toured the world as a headliner for nearly two decades\, fronting ensembles versed in pop\, New Orleans jazz\, country\, bluegrass\, classical\, punk\, gospel and experimental music\, but tied to no particular genre. The New York Times has written that his work "transcends time and idiom\," and The All-Music Guide has called him "an important force in creative music." He has appeared on stages ranging from Lincoln Center to rural Romania\, produced and released eleven albums of his music\, been profiled on numerous syndicated NPR programs\, composed music for theater and film\, and written and directed plays. His most recent play\, A Star Has Burnt My Eye\, will have its premiere at the Next Wave Festival at BAM this fall. www.howardfishman.com He will be performing here in Saratoga Springs at the Universal Preservation Hall.
X-ALT-DESC;FMTTYPE=text/html:Howard Fishman &amp\; Band Friday\, Critically-acclaimed composer\, guitarist\, songwriter\, singer and bandleader Howard Fishman has toured the world as a headliner for nearly two decades\, fronting ensembles versed in pop\, New Orleans jazz\, country\, bluegrass\, classical\, punk\, gospel and experimental music\, but tied to no particular genre. The New York Times has written that his work &quot\;transcends time and idiom\,&quot\; and The All-Music Guide has called him &quot\;an important force in creative music.&quot\; He has appeared on stages ranging from Lincoln Center to rural Romania\, produced and released eleven albums of his music\, been profiled on numerous syndicated NPR programs\, composed music for theater and film\, and written and directed plays. His most recent play\, A Star Has Burnt My Eye\, will have its premiere at the Next Wave Festival at BAM this fall. www.howardfishman.com He will be performing here in Saratoga Springs at the Universal Preservation Hall.
LOCATION:Universal Preservation Hall 25 Washington st Saratoga Springs\, NY 12866
UID:e.2254.17304
SEQUENCE:3
DTSTAMP:20260421T001831Z
URL:http://saratogatourism-gzcms.preview.gochambermaster.com/events/details/live-music-series-08-19-2016-17304
END:VEVENT

END:VCALENDAR
