BEGIN:VCALENDAR
VERSION:2.0
PRODID:-//ChamberMaster//Event Calendar 2.0//EN
METHOD:PUBLISH
X-PUBLISHED-TTL:P3D
REFRESH-INTERVAL:P3D
CALSCALE:GREGORIAN
BEGIN:VEVENT
DTSTART:20151028T213000Z
DTEND:20151028T233000Z
X-MICROSOFT-CDO-ALLDAYEVENT:FALSE
SUMMARY:Legal Aid Society of Northeastern New York 2015 Justice For All Campaign Kickoff Event
DESCRIPTION:Legal Aid Society of Northeastern New York 2015 Justice For All Campaign Kickoff Event.  The Mission of the Legal Aid Society of Northeastern New York ("LASNNY") is to provide effective\, free civil legal services and education to and advocacy for people with low income or other barriers to accessing the legal system.  We secure basic needs\, protect and preserve legal rights\, provide equal access to justice and seek fairness and dignity for our clients.  The LASNNY service area includes Albany\, Clinton\, Columbia\, Essex\, Franklin\, Fulton\, Greene\, Hamilton\, Montgomery\, Rensselaer\, Saratoga\, Schenectady\, Schoharie\, St. Lawrence\, Warren\, and Washington Counties with offices in Albany (serving Albany\, Rensselaer\, Schenectady\, Columbia and Greene Counties)\, Saratoga Springs (serving Saratoga\, Washington and Warren Counties) Amsterdam (serving Montgomery\, Fulton and Schoharie Counties)\, Plattsburgh (serving Clinton\, Essex\, Franklin and Hamilton Counties) and Canton (St. Lawrence and Franklin Counties and the St. Regis Reservation).
X-ALT-DESC;FMTTYPE=text/html:<strong>Legal Aid Society of Northeastern New York 2015 Justice For All Campaign Kickoff Event</strong>.&nbsp\;&nbsp\;<span style="font-size: 11.5pt\;"><span style="font-family: times new roman\;">The Mission of the Legal Aid Society of Northeastern New York (&ldquo\;LASNNY&rdquo\;) is to provide effective\, free civil legal services and education to and advocacy for people with low income or other barriers to accessing the legal system.&nbsp\; We secure basic needs\, protect and preserve legal rights\, provide equal access to justice and seek fairness and dignity for our clients.&nbsp\; The LASNNY service area includes <strong>Albany\, Clinton\, Columbia\, Essex\, Franklin\, Fulton\, Greene\, Hamilton\, Montgomery\, Rensselaer\, Saratoga\, Schenectady\, Schoharie\, St. Lawrence\, Warren\, and Washington Counties</strong> with offices in Albany (serving Albany\, Rensselaer\, Schenectady\, Columbia and Greene Counties)\, Saratoga Springs (serving Saratoga\, Washington and Warren Counties) Amsterdam (serving Montgomery\, Fulton and Schoharie Counties)\, Plattsburgh (serving Clinton\, Essex\, Franklin and Hamilton Counties) and Canton (St. Lawrence and Franklin Counties and the St. Regis Reservation).&nbsp\;&nbsp\;&nbsp\; </span></span><br />\n&nbsp\;
LOCATION:Fort Orange Club\, 110 Washington Avenue\, Albany\, NY 12210
UID:e.2254.12674
SEQUENCE:3
DTSTAMP:20260422T145216Z
URL:http://saratogatourism-gzcms.preview.gochambermaster.com/events/details/legal-aid-society-of-northeastern-new-york-2015-justice-for-all-campaign-kickoff-event-10-28-2015-12674
END:VEVENT

END:VCALENDAR
