BEGIN:VCALENDAR
VERSION:2.0
PRODID:-//ChamberMaster//Event Calendar 2.0//EN
METHOD:PUBLISH
X-PUBLISHED-TTL:P3D
REFRESH-INTERVAL:P3D
CALSCALE:GREGORIAN
BEGIN:VEVENT
DTSTART:20150326T230000Z
DTEND:20150327T000000Z
X-MICROSOFT-CDO-ALLDAYEVENT:FALSE
SUMMARY:Lecture: "Accounting for Carbon\, Valuing Nature in an Era of Climate Change"
DESCRIPTION:Lecture: "Accounting for Carbon\, Valuing Nature in an Era of Climate Change" by David Lansing of the University of Maryland\, a geographer who researches the intersection of conservation policy and rural livelihoods. 7 p.m.-Gannett Auditorium For more information call 518-580-5948
X-ALT-DESC;FMTTYPE=text/html:Lecture: &quot\;Accounting for Carbon\, Valuing Nature in an Era of Climate Change&quot\; by David Lansing of the University of Maryland\, a geographer who researches the intersection of conservation policy and rural livelihoods. 7 p.m.-Gannett Auditorium For more information call 518-580-5948
LOCATION:Gannett Auditorium\, Skidmore College 815 N Broadway Saratoga Springs\, NY 12866
UID:e.2254.6699
SEQUENCE:3
DTSTAMP:20260423T195143Z
URL:http://saratogatourism-gzcms.preview.gochambermaster.com/events/details/lecture-accounting-for-carbon-valuing-nature-in-an-era-of-climate-change-03-26-2015-6699
END:VEVENT

END:VCALENDAR
