BEGIN:VCALENDAR
VERSION:2.0
PRODID:-//ChamberMaster//Event Calendar 2.0//EN
METHOD:PUBLISH
X-PUBLISHED-TTL:P3D
REFRESH-INTERVAL:P3D
CALSCALE:GREGORIAN
BEGIN:VEVENT
DTSTART:20160228T130000Z
DTEND:20160228T170000Z
X-MICROSOFT-CDO-ALLDAYEVENT:FALSE
SUMMARY:Leap Year Indoor Triathlon (Also Volunteer Opportunity)
DESCRIPTION:WHAT'S A LEAP YEAR TRIATHLON?\n\nAn indoor triathlon is a combination of\n\n3 events\, a swim\, bike\, and run\, which all\n\ntake place inside the Y. This is a leap year\n\nso we're putting a twist on the order of\n\nevents! Instead of completing a specific\n\ndistance\, participants push themselves\n\nto go as far as they can in each of the\n\n15-minute events.\n\n\n\nWe also need volunteers for the Indoor Triathlon as well. Please reach out to Aaron Ditch at aditch@cdymca.org with any interest in volunteering.
X-ALT-DESC;FMTTYPE=text/html:WHAT&rsquo\;S A LEAP YEAR TRIATHLON?<br />\nAn indoor triathlon is a combination of<br />\n3 events\, a swim\, bike\, and run\, which all<br />\ntake place inside the Y. This is a leap year<br />\nso we&rsquo\;re putting a twist on the order of<br />\nevents! Instead of completing a specific<br />\ndistance\, participants push themselves<br />\nto go as far as they can in each of the<br />\n15-minute events.<br />\n<br />\nWe also need volunteers for the Indoor Triathlon as well. Please reach out to Aaron Ditch at aditch@cdymca.org with any interest in volunteering.&nbsp\;
LOCATION:Southern Saratoga YMCA\, 1 Wall Street\, Clifton Park\, NY 12065
UID:e.2254.14901
SEQUENCE:3
DTSTAMP:20260422T014408Z
URL:http://saratogatourism-gzcms.preview.gochambermaster.com/events/details/leap-year-indoor-triathlon-also-volunteer-opportunity-02-28-2016-14901
END:VEVENT

END:VCALENDAR
