BEGIN:VCALENDAR
VERSION:2.0
PRODID:-//ChamberMaster//Event Calendar 2.0//EN
METHOD:PUBLISH
X-PUBLISHED-TTL:P3D
REFRESH-INTERVAL:P3D
CALSCALE:GREGORIAN
BEGIN:VEVENT
DTSTART:20160820T130000Z
DTEND:20160822T200000Z
X-MICROSOFT-CDO-ALLDAYEVENT:FALSE
SUMMARY:Knife and Tomahawk Forging with Joe Szilaski. #974-0820. 3 days. August 20-22.
DESCRIPTION:This class is designed for anyone with little or no forging experience but with an interest in making hand forged high performance knife blades and tomahawks. Topics to be covered include blade function and design\, selection of steel\, forging and safety. All students will gain a basic understanding of the techniques and importance of forging a blade to shape at low temperature and will have a hands-on experience using a gas forge. Techniques of differential heat treatment and its importance will also be discussed. This class is dedicated to the forging and heat treating of a blade in preparation for the making of a complete hand-forged knife. For those with an interest in learning to forge a tomahawk head\, we will discuss design and function of various types of tomahawks. We will cover the various methods of making a hawk including traditional and more modern methods. All students will complete a tomahawk head that they can then take home to complete the haft.\n\n\n\n \n\n\nNOTE:  Hard shoes and long pants are required for student's safety.
X-ALT-DESC;FMTTYPE=text/html:<pre>\n<span style="font-size:12pt"><span style="font-family:arial\,sans-serif"><span style="color:black">This class is designed for anyone with little or no forging experience but with an interest in making hand forged high performance knife blades and tomahawks. Topics to be covered include blade function and design\, selection of steel\, forging and safety. All students will gain a basic understanding of the techniques and importance of forging a blade to shape at low temperature and will have a hands-on experience using a gas forge. Techniques of differential heat treatment and its importance will also be discussed. This class is dedicated to the forging and heat treating of a blade in preparation for the making of a complete hand-forged knife. For those with an interest in learning to forge a tomahawk head\, we will discuss design and function of various types of tomahawks. We will cover the various methods of making a hawk including traditional and more modern methods. All students will complete a tomahawk head that they can then take home to complete the haft.</span></span></span></pre>\n\n<pre>\n\n&nbsp\;</pre>\n\n<pre>\n<strong><span style="font-size:12pt"><span style="font-family:arial\,sans-serif"><span style="color:black">NOTE:&nbsp\; Hard shoes and long pants are required for student&#39\;s safety.</span></span></span></strong></pre>\n\n<pre>\n\n&nbsp\;</pre>\n
LOCATION:Adirondack Folk School 51 Main Street Lake Luzerne\, NY 12846
UID:e.2254.16115
SEQUENCE:3
DTSTAMP:20260421T014559Z
URL:http://saratogatourism-gzcms.preview.gochambermaster.com/events/details/knife-and-tomahawk-forging-with-joe-szilaski-974-0820-3-days-august-20-22-08-20-2016-16115
END:VEVENT

END:VCALENDAR
