BEGIN:VCALENDAR
VERSION:2.0
PRODID:-//ChamberMaster//Event Calendar 2.0//EN
METHOD:PUBLISH
X-PUBLISHED-TTL:P3D
REFRESH-INTERVAL:P3D
CALSCALE:GREGORIAN
BEGIN:VEVENT
DTSTART:20170618T180000Z
DTEND:20170618T200000Z
X-MICROSOFT-CDO-ALLDAYEVENT:FALSE
SUMMARY:Kids Bug Hotel and Miniature Garden Workshop
DESCRIPTION:Bugs aren't for squishing\, Bugs are for appreciating! This event is all about creating a conversation and excitement about the creatures that live among us\; about pure discovery\, the importance of cherishing the ecosystems and the environment all around us. Dads\, Granddads and uncles too bring your young bug hunters and join the team at Brookside Nursery as we talk about the bugs they will find in their garden and backyard. We will create a Bug Hotel using recycled materials and nature's finest foliage. Young gardeners will then plant a miniature garden to house their bug hotel! We will have a sampling of small bug snacks and beetle juice for you and your young gardeners to enjoy! Spaces are limited to 25 miniature gardens so please sign up soon\, $20 per Miniature Garden with Bug Hotel.\n\nSupplies Provided:\n\nPlanter\n\nBug Hotel Materials\n\nDecorative Materials\n\n(4) Flowering Plants\n\n(1) Bug net\n\nIncludes bug refreshments and beetle juice (if your child has allergies please bring a snack that they can enjoy)\n\nParent/Guardians are required to stay and assist their child in planting.
X-ALT-DESC;FMTTYPE=text/html:<span style="font-family: times new roman\,serif\;"><span style="font-size: 12pt\;">Bugs aren&rsquo\;t for squishing\, Bugs are for appreciating! This event is all about creating a conversation and excitement about the creatures that live among us\; about pure discovery\, the importance of cherishing the ecosystems and the environment all around us. Dads\, Granddads and uncles too bring your young bug hunters and join the team at Brookside Nursery as we talk about the bugs they will find in their garden and backyard. We will create a Bug Hotel using recycled materials and nature&rsquo\;s finest foliage. Young gardeners will then plant a miniature garden to house their bug hotel! We will have a sampling of small bug snacks and beetle juice for you and your young gardeners to enjoy! Spaces are limited to 25 miniature gardens so please sign up soon\, $20 per Miniature Garden with Bug Hotel.</span></span><br />\n<span style="font-family: times new roman\,serif\;"><span style="font-size: 12pt\;">Supplies Provided:<br />\nPlanter<br />\nBug Hotel Materials<br />\nDecorative Materials<br />\n(4) Flowering Plants<br />\n(1) Bug net</span></span><br />\n<span style="font-family: times new roman\,serif\;"><span style="font-size: 12pt\;">Includes bug refreshments and beetle juice (if your child has allergies please bring a snack that they can enjoy)</span></span><br />\n<span style="font-family: times new roman\,serif\;"><span style="font-size: 12pt\;">Parent/Guardians are required to stay and assist their child in planting.</span></span>
LOCATION:Brookside Nursery 824 State Route 67 Ballston Spa NY 12020 (518)885-6500
UID:e.2254.23326
SEQUENCE:3
DTSTAMP:20260419T205954Z
URL:http://saratogatourism-gzcms.preview.gochambermaster.com/events/details/kids-bug-hotel-and-miniature-garden-workshop-23326
END:VEVENT

END:VCALENDAR
