BEGIN:VCALENDAR
VERSION:2.0
PRODID:-//ChamberMaster//Event Calendar 2.0//EN
METHOD:PUBLISH
X-PUBLISHED-TTL:P3D
REFRESH-INTERVAL:P3D
CALSCALE:GREGORIAN
BEGIN:VEVENT
DTSTART:20150208T170000Z
DTEND:20150208T190000Z
X-MICROSOFT-CDO-ALLDAYEVENT:FALSE
SUMMARY:Join the Kidney Club and let's Chat!
DESCRIPTION:Join us for a patient and family support group and let's chat! Do you want to connect with other people with chronic kidney disease and their family members? Come share your experiences\, ask questions\, provide tips or just chat with people that are traveling the same road as you.
X-ALT-DESC;FMTTYPE=text/html:Join us for a patient and family support group and let&#39\;s chat! Do you want to connect with other people with chronic kidney disease and their family members? Come share your experiences\, ask questions\, provide tips or just chat with people that are traveling the same road as you.
LOCATION:Northeast Kidney Foundation\, 501 New Karner Road\, Albany NY
UID:e.2254.946
SEQUENCE:3
DTSTAMP:20260423T225510Z
URL:http://saratogatourism-gzcms.preview.gochambermaster.com/events/details/join-the-kidney-club-and-let-s-chat-02-08-2015-946
END:VEVENT

END:VCALENDAR
