BEGIN:VCALENDAR
VERSION:2.0
PRODID:-//ChamberMaster//Event Calendar 2.0//EN
METHOD:PUBLISH
X-PUBLISHED-TTL:P3D
REFRESH-INTERVAL:P3D
CALSCALE:GREGORIAN
BEGIN:VEVENT
DTSTART:20170323T173000Z
DTEND:20170323T180000Z
X-MICROSOFT-CDO-ALLDAYEVENT:FALSE
SUMMARY:Irish Music and Dancing
DESCRIPTION:Refreshments and music! Join Tim O'Shea and Oona Grady for a talk\, demonstration (with live music) and introduction on Irish Folk Music. Sponsored by Janney Montgomery Scott LLC.
X-ALT-DESC;FMTTYPE=text/html:<span style="color: rgb(32\, 32\, 32)\; font-family: arial\,sans-serif\; font-size: 16px\;">Refreshments and music! Join Tim O&rsquo\;Shea and Oona Grady for a talk\, demonstration (with live music) and introduction on Irish Folk Music. Sponsored by Janney Montgomery Scott LLC.</span>
LOCATION:5 Williams Street Saratoga Springs\, NY 12866
UID:e.2254.22930
SEQUENCE:3
DTSTAMP:20260420T034838Z
URL:http://saratogatourism-gzcms.preview.gochambermaster.com/events/details/irish-music-and-dancing-22930
END:VEVENT

END:VCALENDAR
