BEGIN:VCALENDAR
VERSION:2.0
PRODID:-//ChamberMaster//Event Calendar 2.0//EN
METHOD:PUBLISH
X-PUBLISHED-TTL:P3D
REFRESH-INTERVAL:P3D
CALSCALE:GREGORIAN
BEGIN:VEVENT
DTSTART:20160527T130000Z
DTEND:20160530T200000Z
X-MICROSOFT-CDO-ALLDAYEVENT:FALSE
SUMMARY:Introduction to Blacksmithing with Dick Sargent. #893-0527. 4 days\, May 27-30
DESCRIPTION:The art of blacksmithing begins with a solid foundation and a focus on the fundamentals: safety\, the proper construction and control of the forge fire\, hammer control\, and an introduction to tooling and its purpose. Beginning with the basic techniques of tapering\, upsetting\, squaring\, rounding\, scrolling\, basic joinery and more\, you will leave with a finished project of your own design. This class is designed for both the novice and those with some forging experience. It is a sound platform from which students may move on to more advanced courses. So strike while iron is hot. Owing to the physical demands and to safety issues\, this class is suggested for students 18 years of age and older.\n\n\nNOTE:  Hard shoes and long pants are required for student safety.
X-ALT-DESC;FMTTYPE=text/html:<pre>\n<span style="font-size:12pt"><span style="font-family:arial\,sans-serif"><span style="color:black">The art of blacksmithing begins with a solid foundation and a focus on the fundamentals: safety\, the proper construction and control of the forge fire\, hammer control\, and an introduction to tooling and its purpose. Beginning with the basic techniques of tapering\, upsetting\, squaring\, rounding\, scrolling\, basic joinery and more\, you will leave with a finished project of your own design. This class is designed for both the novice and those with some forging experience. It is a sound platform from which students may move on to more advanced courses. So strike while iron is hot. Owing to the physical demands and to safety issues\, this class is suggested for students 18 years of age and older.</span></span></span></pre>\n\n<pre>\n<strong><span style="font-size:12pt"><span style="font-family:arial\,sans-serif"><span style="color:black">NOTE:&nbsp\; Hard shoes and long pants are required for student safety.</span></span></span></strong></pre>\n
LOCATION:Adirondack Folk School 51 Main Street Lake Luzerne\, NY 12846
UID:e.2254.15598
SEQUENCE:3
DTSTAMP:20260421T170804Z
URL:http://saratogatourism-gzcms.preview.gochambermaster.com/events/details/introduction-to-blacksmithing-with-dick-sargent-893-0527-4-days-may-27-30-05-27-2016-15598
END:VEVENT

END:VCALENDAR
