BEGIN:VCALENDAR
VERSION:2.0
PRODID:-//ChamberMaster//Event Calendar 2.0//EN
METHOD:PUBLISH
X-PUBLISHED-TTL:P3D
REFRESH-INTERVAL:P3D
CALSCALE:GREGORIAN
BEGIN:VEVENT
DTSTART:20170316T150000Z
DTEND:20170316T163000Z
X-MICROSOFT-CDO-ALLDAYEVENT:FALSE
SUMMARY:Informational Session on What is Assisted Living vs. Enhanced Assisted Living and Estate Planning Considerations
DESCRIPTION:You are invited to an Informational Session presented by Lisa White\, RN from Home of the Good Shepherd on What is Assisted Living vs. Enhanced Assisted Living and Estate Planning Considerations presented by Herzog Law Firm. Lunch sponsored by Herzog Law Firm. Please RSVP to Courtney Lamport by March 9th. 518-450-7360 or clamport@hgshomes.com.
X-ALT-DESC;FMTTYPE=text/html:<div>You are invited to an Informational Session presented by Lisa White\, RN from Home of the Good Shepherd on What is Assisted Living vs. Enhanced Assisted Living and Estate Planning Considerations presented by Herzog Law Firm. Lunch sponsored by Herzog Law Firm. Please RSVP to Courtney Lamport by March 9th. 518-450-7360 or clamport@hgshomes.com.</div>\n
LOCATION:Malta Community Center Room 104 One Bayberry Dr.\, Malta\, NY 12020
UID:e.2254.22884
SEQUENCE:3
DTSTAMP:20260420T054610Z
URL:http://saratogatourism-gzcms.preview.gochambermaster.com/events/details/informational-session-on-what-is-assisted-living-vs-enhanced-assisted-living-and-estate-planning-considerations-22884
END:VEVENT

END:VCALENDAR
