BEGIN:VCALENDAR
VERSION:2.0
PRODID:-//ChamberMaster//Event Calendar 2.0//EN
METHOD:PUBLISH
X-PUBLISHED-TTL:P3D
REFRESH-INTERVAL:P3D
CALSCALE:GREGORIAN
BEGIN:VEVENT
DTSTART:20160520T130000Z
DTEND:20160522T200000Z
X-MICROSOFT-CDO-ALLDAYEVENT:FALSE
SUMMARY:How to Get A "Head" in the World of Woodcarving with Gerry Holzman. #948-0520.
DESCRIPTION:The class\, designed to accommodate students at a variety of skill levels\, is based on the carving of a stylized monk's head. This charming chap\, whose ancestor was once a beam support in the rathskellar of the Hotel Buffalo\, has graciously offered to model for us. Working from a band-sawn cutout (2 inch thick basswood blank provided)\, you will complete one of these caricatures. Those with advanced carving and modeling skills will be encouraged to introduce some personal variations. The finished corbel can be hung like a picture\, used as a shelf or\, as the instructor has done in his own post & beam home\, actually be put to work as a beam supporter. A basic set of carving tools will be provided\, but if you have your own set and mallet you certainly should bring them along. Sharpening equipment will also be available. This class is held for 2+1/2 days. Friday 12:30-4:30. Saturday & Sunday 9am-4pm. NOTE: Please bring a hand mirror so you can copy some of your own facial details.
X-ALT-DESC;FMTTYPE=text/html:The class\, designed to accommodate students at a variety of skill levels\, is based on the carving of a stylized monk&#39\;s head. This charming chap\, whose ancestor was once a beam support in the rathskellar of the Hotel Buffalo\, has graciously offered to model for us. Working from a band-sawn cutout (2 inch thick basswood blank provided)\, you will complete one of these caricatures. Those with advanced carving and modeling skills will be encouraged to introduce some personal variations. The finished corbel can be hung like a picture\, used as a shelf or\, as the instructor has done in his own post &amp\; beam home\, actually be put to work as a beam supporter. A basic set of carving tools will be provided\, but if you have your own set and mallet you certainly should bring them along. Sharpening equipment will also be available. This class is held for 2+1/2 days. Friday 12:30-4:30. Saturday &amp\; Sunday 9am-4pm. NOTE: Please bring a hand mirror so you can copy some of your own facial details.
LOCATION:Adirondack Folk School\, 51 Main Street\, Lake Luzerne\, NY 12846
UID:e.2254.15242
SEQUENCE:3
DTSTAMP:20260421T170839Z
URL:http://saratogatourism-gzcms.preview.gochambermaster.com/events/details/how-to-get-a-head-in-the-world-of-woodcarving-with-gerry-holzman-948-0520-05-20-2016-15242
END:VEVENT

END:VCALENDAR
