BEGIN:VCALENDAR
VERSION:2.0
PRODID:-//ChamberMaster//Event Calendar 2.0//EN
METHOD:PUBLISH
X-PUBLISHED-TTL:P3D
REFRESH-INTERVAL:P3D
CALSCALE:GREGORIAN
BEGIN:VEVENT
DTSTART:20140914T170000Z
DTEND:20140914T183000Z
X-MICROSOFT-CDO-ALLDAYEVENT:FALSE
SUMMARY:Horn Concert - 09/14/2014
DESCRIPTION:Horn Concert\, Featuring Skidmore faculty member Patrice MalatestinicFeaturing Skidmore faculty member Patrice Malatestinic 3 p.m.-Arthur Zankel Music Center\, Ladd Concert Hall For more information call 518-580-5321 or go to www.skidmore.edu/Zankel
X-ALT-DESC;FMTTYPE=text/html:<p>Horn Concert\, Featuring Skidmore faculty member Patrice Malatestinic</p><p><span>Featuring Skidmore faculty member Patrice Malatestinic</span></p> <p><span>3 p.m</span>.-Arthur Zankel Music Center\, Ladd Concert Hall</p> <span style="font-size: 12pt\; font-family: Times New Roman\,serif\;">For more information call 518-580-5321 or go to www.skidmore.edu/Zankel</span>
LOCATION:Arthur Zankel Music Center\, Skidmore College
UID:e.2254.3539
SEQUENCE:3
DTSTAMP:20260424T103553Z
URL:http://saratogatourism-gzcms.preview.gochambermaster.com/events/details/horn-concert-09-14-2014-09-14-2014-3539
END:VEVENT

END:VCALENDAR
