BEGIN:VCALENDAR
VERSION:2.0
PRODID:-//ChamberMaster//Event Calendar 2.0//EN
METHOD:PUBLISH
X-PUBLISHED-TTL:P3D
REFRESH-INTERVAL:P3D
CALSCALE:GREGORIAN
BEGIN:VEVENT
DTSTART:20160428T213000Z
DTEND:20160429T000000Z
X-MICROSOFT-CDO-ALLDAYEVENT:FALSE
SUMMARY:HomeBridge Financial Services Grand Opening Event
DESCRIPTION:
X-ALT-DESC;FMTTYPE=text/html:
LOCATION:125 High Rock Avenue\, Ste. 202
UID:e.2254.16406
SEQUENCE:3
DTSTAMP:20260421T171932Z
URL:http://saratogatourism-gzcms.preview.gochambermaster.com/events/details/homebridge-financial-services-grand-opening-event-04-28-2016-16406
END:VEVENT

END:VCALENDAR
