BEGIN:VCALENDAR
VERSION:2.0
PRODID:-//ChamberMaster//Event Calendar 2.0//EN
METHOD:PUBLISH
X-PUBLISHED-TTL:P3D
REFRESH-INTERVAL:P3D
CALSCALE:GREGORIAN
BEGIN:VEVENT
DTSTART:20140713T140000Z
DTEND:20140713T170000Z
X-MICROSOFT-CDO-ALLDAYEVENT:FALSE
SUMMARY:Here's to the Heroes! - 07/13/2014
DESCRIPTION:SHOW YOUR SUPPORT AND HONOR THOSE WHO PROUDLY SERVE OR HAVE SERVED OUR COUNTRY!TRACKSIDE!\n\nLive Harness Racing - first post 12:45pm\n\n \n\nLive Performance by Big Sky Country from 1-3pm\n\n \n\n$2 Hot Dogs\, $5 Burgers and $3 Budweiser Specials\n\n \n\nGiveaways and Prizes\n\n \n\nLive Broadcasts from CAT 100.9 and B95.5\n\n \nSHOW YOUR SUPPORT AND HONOR THOSE WHO\n \nPROUDLY SERVE OR HAVE SERVED OUR COUNTRY!\n \nThe first 500 guests* who make a donation to 'Operation Adopt a Solider'\n \nwill receive a FREE 'Here's to the Heroes' t-shirt and $10 Free Play Voucher!\n \nDonations accepted: monetary\, nonperishable food items\, personal care products or AT&T International Phone Cards
X-ALT-DESC;FMTTYPE=text/html:<p>SHOW YOUR SUPPORT AND HONOR THOSE WHO PROUDLY SERVE OR HAVE SERVED OUR COUNTRY!</p><p style="text-align: center\;"><strong><span style="font-size: large\;">TRACKSIDE!</span></strong></p>\n<ul>\n<li><span style="font-size: medium\;">Live Harness Racing - first post 12:45pm</span></li>\n</ul>\n<p>&nbsp\;</p>\n<ul>\n<li style="text-align: left\;"><span style="font-size: medium\;">Live Performance by Big Sky Country from 1-3pm</span></li>\n</ul>\n<p>&nbsp\;</p>\n<ul>\n<li style="text-align: left\;"><span style="font-size: medium\;">$2 Hot Dogs\, $5 Burgers and $3 Budweiser Specials</span></li>\n</ul>\n<p>&nbsp\;</p>\n<ul>\n<li style="text-align: left\;"><span style="font-size: medium\;">Giveaways and Prizes</span></li>\n</ul>\n<p>&nbsp\;</p>\n<ul>\n<li><span style="font-size: medium\;">Live Broadcasts from CAT 100.9 and B95.5</span></li>\n</ul>\n<p style="text-align: center\;">&nbsp\;</p>\n<p style="text-align: center\;" align="left"><span style="font-size: small\;"><strong>SHOW YOUR SUPPORT AND HONOR THOSE WHO</strong></span></p>\n<p style="text-align: center\;">&nbsp\;</p>\n<p style="text-align: center\;" align="left"><span style="font-size: small\;"><strong>PROUDLY SERVE OR HAVE SERVED OUR COUNTRY!</strong></span></p>\n<p style="text-align: center\;">&nbsp\;</p>\n<p style="text-align: center\;" align="left"><strong>The first 500 guests* who make a donation to &lsquo\;Operation Adopt a Solider&rsquo\;</strong></p>\n<p style="text-align: center\;">&nbsp\;</p>\n<p style="text-align: center\;" align="left"><strong>will receive a FREE &lsquo\;Here&rsquo\;s to the Heroes&rsquo\; t-shirt and $10 Free Play Voucher!</strong></p>\n<p style="text-align: center\;">&nbsp\;</p>\n<p style="text-align: center\;" align="left">Donations accepted: monetary\, nonperishable food items\, personal care products or AT&amp\;T International Phone Cards</p>\n<p><br />&nbsp\;</p>\n<p>&nbsp\;</p>\n<p>&nbsp\;</p>\n<p>&nbsp\;</p>
LOCATION:Saratoga Casino & Raceway
UID:e.2254.3355
SEQUENCE:3
DTSTAMP:20260424T201437Z
URL:http://saratogatourism-gzcms.preview.gochambermaster.com/events/details/here-s-to-the-heroes-07-13-2014-07-13-2014-3355
END:VEVENT

END:VCALENDAR
