BEGIN:VCALENDAR
VERSION:2.0
PRODID:-//ChamberMaster//Event Calendar 2.0//EN
METHOD:PUBLISH
X-PUBLISHED-TTL:P3D
REFRESH-INTERVAL:P3D
CALSCALE:GREGORIAN
BEGIN:VEVENT
DTSTART:20161006T160000Z
DTEND:20161006T170000Z
X-MICROSOFT-CDO-ALLDAYEVENT:FALSE
SUMMARY:Habitat for Humanity Groundbreaking Ceremony!
DESCRIPTION:Habitat for Humanity of Northern Saratoga\, Warren and Washington Counties welcomes all to a Groundbreaking Ceremony at 26 Cherry Street\, Saratoga Springs on October 6\, 2016 at 12 pm. This is the second build for the affiliate in Saratoga Springs and an important milestone for the city in offering affordable housing in the community. Saratoga Springs Mayor Joanne Yepsen\, along with other city officials will be in attendance during the ceremony. The groundbreaking celebration begins at 12pm at the construction site at 26 Cherry Street\, Saratoga Springs\, NY.
X-ALT-DESC;FMTTYPE=text/html:<span style="font-family: times new roman\;">Habitat for Humanity of Northern Saratoga\, Warren and Washington Counties welcomes all to a <strong>Groundbreaking Ceremony at 26 Cherry Street\, Saratoga Springs on October 6\, 2016 at 12 pm.</strong> This is the second build for the affiliate in Saratoga Springs and an important milestone for the city in offering affordable housing in the community. <span style="font-size: 10pt\;">Saratoga Springs Mayor Joanne Yepsen\, along with other city officials will be in attendance during the ceremony. </span><strong>The groundbreaking celebration begins at 12pm at the construction site at 26 Cherry Street\, Saratoga Springs\, NY.&nbsp\; </strong></span><br />\n&nbsp\;
LOCATION:26 Cherry Street\, Saratoga Springs\, NY 12866
UID:e.2254.20776
SEQUENCE:3
DTSTAMP:20260420T195339Z
URL:http://saratogatourism-gzcms.preview.gochambermaster.com/events/details/habitat-for-humanity-groundbreaking-ceremony-20776
END:VEVENT

END:VCALENDAR
