BEGIN:VCALENDAR
VERSION:2.0
PRODID:-//ChamberMaster//Event Calendar 2.0//EN
METHOD:PUBLISH
X-PUBLISHED-TTL:P3D
REFRESH-INTERVAL:P3D
CALSCALE:GREGORIAN
BEGIN:VEVENT
DTSTART:20191107T150000Z
DTEND:20191107T153000Z
X-MICROSOFT-CDO-ALLDAYEVENT:FALSE
SUMMARY:GTM Payroll Services\, Inc. Ribbon Cutting
DESCRIPTION:I would like to invite you to a ribbon cutting celebration for the opening of GTM Payroll\, second location\, November 7 at 10:00 a.m.\, 9 Executive Park Drive\, Clifton Park. Please RSVP if you can attend. \n \n\nThank you to First New York Federal Credit Union for sponsoring all of our ribbon cuttings!
X-ALT-DESC;FMTTYPE=text/html:<p style="margin: 0in 0in 0pt\;"><span style="font-family: &quot\;Arial&quot\;\,&quot\;sans-serif&quot\;\; font-size: 12pt\;"><font color="#000000">I would like to invite you to a ribbon cutting celebration for the opening of GTM Payroll\, second location\, November 7 at 10:00 a.m.\, 9 Executive Park Drive\, Clifton Park. Please RSVP if you can attend. </font></span></p>\n&nbsp\;<br />\n<span style="font-size: medium\;"><span style="font-family: calibri\;"><strong><span style="font-size: 16pt\;">Thank you to First New York Federal Credit Union for sponsoring all of our ribbon cuttings</span></strong>!</span></span><br />\n<br />\n&nbsp\;
LOCATION:9 Executive Park Drive\, Clifton Park
UID:e.2254.41405
SEQUENCE:3
DTSTAMP:20260419T130603Z
URL:http://saratogatourism-gzcms.preview.gochambermaster.com/events/details/gtm-payroll-services-inc-ribbon-cutting-41405
END:VEVENT

END:VCALENDAR
