BEGIN:VCALENDAR
VERSION:2.0
PRODID:-//ChamberMaster//Event Calendar 2.0//EN
METHOD:PUBLISH
X-PUBLISHED-TTL:P3D
REFRESH-INTERVAL:P3D
CALSCALE:GREGORIAN
BEGIN:VEVENT
DTSTART:20140723T150000Z
DTEND:20140723T160000Z
X-MICROSOFT-CDO-ALLDAYEVENT:FALSE
SUMMARY:Grant Remembrance Day - 07/23/2014
DESCRIPTION:Annual event acknowledging the passing of Ulysses S. Grant129 years ago today\, at age 63\, Ulysses S. Grant finally bowed to the only enemy who could defeat him\, cancer. It has become a tradition at Grant Cottage to mark this sad occasion by recreating the Grant family circle and allowing those who loved him most to speak about Grant the husband\, father and grandfather. Re-enactors portraying General Grant's family and closest friends will gather on the Cottage porch to bid the man they adored a final\, very personal farewell. The ceremony will include music and\, while acknowledging sorrow\, will be a true celebration of U.S. Grant's truly extraordinary life.
X-ALT-DESC;FMTTYPE=text/html:<p>Annual event acknowledging the passing of Ulysses S. Grant</p><P>129 years ago today\, at age 63\, Ulysses S. Grant finally bowed to the only enemy who could defeat him\, cancer. It has become a tradition at Grant Cottage to mark this sad occasion by recreating the Grant family circle and allowing those who loved him most to speak about Grant the husband\, father and grandfather. Re-enactors portraying General Grant's family and closest friends will gather on the Cottage porch to bid the man they adored a final\, very personal farewell. The ceremony will include music and\, while acknowledging sorrow\, will be a true celebration of U.S. Grant's truly extraordinary life. </P>\n<P>&nbsp\;</P>
LOCATION:Grant Cottage State Historic Site
UID:e.2254.2703
SEQUENCE:3
DTSTAMP:20260424T173053Z
URL:http://saratogatourism-gzcms.preview.gochambermaster.com/events/details/grant-remembrance-day-07-23-2014-07-23-2014-2703
END:VEVENT

END:VCALENDAR
