BEGIN:VCALENDAR
VERSION:2.0
PRODID:-//ChamberMaster//Event Calendar 2.0//EN
METHOD:PUBLISH
X-PUBLISHED-TTL:P3D
REFRESH-INTERVAL:P3D
CALSCALE:GREGORIAN
BEGIN:VEVENT
DTSTART:20170313T223000Z
DTEND:20170314T003000Z
X-MICROSOFT-CDO-ALLDAYEVENT:FALSE
SUMMARY:Getting Your Life Back From Cancer
DESCRIPTION:Free\, three-part series:\n\n               Monday\, February 13\, 6:30pm - 8:30pm\n\n               Monday\, February 27\, 6:30pm - 8:30pm\n\n               Monday\, March 13\, 6:30pm - 8:30pm   *tentative date\, subject to change\n\n\n\nThis important workshop series is intended for you if:\n\n	You are in treatment for cancer and wonder about life after treatment\n	You don't want cancer to control your life\n	You want to do all you can to ensure a healthy and satisfying future.\n\nPatricia A. Fennell\, MSW\, LCSW-R\, an internationally recognized expert on chronic illness and its impact on patients and families\, will present an interactive program offering strategies and solutions for cancer survivors who want to make the most of their "new normal" and the rest of their lives.\n\nFor more information and online registration go towww.tolife.org/events or call 439-5975.
X-ALT-DESC;FMTTYPE=text/html:<span style="color: rgb(68\, 68\, 68)\; font-family: arial\,helvetica\,sans-serif\; font-size: 14px\;"><span style="color: inherit\; font-family: arial\,helvetica\,sans-serif\; font-size: inherit\;"><span style="color: rgb(96\, 96\, 96)\; font-family: inherit\; font-size: inherit\;">Free\, three-part series:</span><br />\n&nbsp\; &nbsp\; &nbsp\; &nbsp\; &nbsp\; &nbsp\; &nbsp\; &nbsp\;<span style="color: rgb(96\, 96\, 96)\; font-family: inherit\; font-size: inherit\;">Monday\, February 13\, 6:30pm - 8:30pm</span><br />\n&nbsp\; &nbsp\; &nbsp\; &nbsp\; &nbsp\; &nbsp\; &nbsp\; &nbsp\;Monday\, February 27\, 6:30pm - 8:30pm</span></span><br />\n<span style="color: rgb(68\, 68\, 68)\; font-family: arial\,helvetica\,sans-serif\; font-size: 14px\;">&nbsp\; &nbsp\; &nbsp\; &nbsp\; &nbsp\; &nbsp\; &nbsp\; &nbsp\;Monday\, March 13\, 6:30pm - 8:30pm &nbsp\; *tentative date\, subject to change</span><br />\n<br />\n<span style="color: rgb(96\, 96\, 96)\; font-family: arial\,helvetica\,sans-serif\; font-size: 14px\;"><span style="color: inherit\; font-family: helvetica\,sans-serif\; font-size: inherit\;"><span style="color: inherit\; font-family: inherit\; font-size: 11.5pt\;">This important workshop series is intended for you if:</span></span></span>\n<ul>\n	<li><span style="color: rgb(96\, 96\, 96)\; font-family: inherit\; font-size: inherit\;"><span style="color: inherit\; font-family: helvetica\,sans-serif\; font-size: inherit\;"><span style="color: inherit\; font-family: inherit\; font-size: 11.5pt\;">You are in treatment for cancer and wonder about life after treatment</span></span></span></li>\n	<li><span style="color: rgb(96\, 96\, 96)\; font-family: inherit\; font-size: inherit\;"><span style="color: inherit\; font-family: helvetica\,sans-serif\; font-size: inherit\;"><span style="color: inherit\; font-family: inherit\; font-size: 11.5pt\;">You don&#39\;t want cancer to control your life</span></span></span></li>\n	<li><span style="color: rgb(96\, 96\, 96)\; font-family: inherit\; font-size: inherit\;"><span style="color: inherit\; font-family: helvetica\,sans-serif\; font-size: inherit\;"><span style="color: inherit\; font-family: inherit\; font-size: 11.5pt\;">You want to do all you can to ensure a healthy and satisfying future.</span></span></span></li>\n</ul>\n<span style="color: rgb(96\, 96\, 96)\; font-family: arial\,helvetica\,sans-serif\; font-size: 14px\;"><span style="color: inherit\; font-family: helvetica\,sans-serif\; font-size: inherit\;"><span style="color: inherit\; font-family: inherit\; font-size: 11.5pt\;">Patricia A. Fennell\, MSW\, LCSW-R\, an internationally recognized expert on chronic illness and its impact on patients and families\, will present an interactive program offering strategies and solutions for cancer survivors who want to make the most of their &quot\;new normal&quot\; and the rest of their lives.<br />\nFor more information and online registration go to<a href="http://www.tolife.org/breast-cancer-events/" style="background: none\; font: inherit\; margin: 0px\; padding: 0px\; outline: 0px\; border-radius: 0px\; border: currentColor\; border-image: none\; left: auto\; top: auto\; width: auto\; height: auto\; text-align: inherit\; right: auto\; bottom: auto\; color: rgb(132\, 0\, 41)\; text-transform: inherit\; text-indent: inherit\; letter-spacing: inherit\; overflow: visible\; clear: none\; text-decoration: none\; word-spacing: inherit\; vertical-align: baseline\; float: none\; display: inline\; white-space: inherit\; visibility: inherit\; border-collapse: separate\; position: static\; z-index: auto\; table-layout: auto\; direction: inherit\; -ms-word-break: inherit\; -ms-word-wrap: break-word\; -ms-text-overflow: clip\; max-height: none\; max-width: none\; content: normal\; box-sizing: content-box\; empty-cells: show\; font-size-adjust: inherit\; font-stretch: inherit\; opacity: 1\; box-shadow: none\; transition-property: color\, border-color\, background-color\, opacity\; transition-duration: 0.15s\; resize: none\; outline-offset: 0px\;" target="_blank"><span style="color: purple\; font-family: inherit\; font-size: inherit\;">www.tolife.org/events&nbsp\;</span></a>or call 439-5975.&nbsp\;</span></span></span>
LOCATION:ACS Hope Club One Penny Lane Latham\, NY 12110
UID:e.2254.21985
SEQUENCE:3
DTSTAMP:20260420T052145Z
URL:http://saratogatourism-gzcms.preview.gochambermaster.com/events/details/getting-your-life-back-from-cancer-03-13-2017-21985
END:VEVENT

END:VCALENDAR
