BEGIN:VCALENDAR
VERSION:2.0
PRODID:-//ChamberMaster//Event Calendar 2.0//EN
METHOD:PUBLISH
X-PUBLISHED-TTL:P3D
REFRESH-INTERVAL:P3D
CALSCALE:GREGORIAN
BEGIN:VEVENT
DTSTART:20160730T143000Z
DTEND:20160730T160000Z
X-MICROSOFT-CDO-ALLDAYEVENT:FALSE
SUMMARY:Fused Glass Harry Potter Class!
DESCRIPTION:Make your own Harry Potter! We'll walk you through how to make this awesome piece of artwork in this fused glass class. Long time fan\, or just starting out\, all are welcome to attend. Call ahead to reserve your spot\, as space is limited!
X-ALT-DESC;FMTTYPE=text/html:Make your own Harry Potter! We&#39\;ll walk you through how to make this awesome piece of artwork in this fused glass class. Long time fan\, or just starting out\, all are welcome to attend. Call ahead to reserve your spot\, as space is limited!
LOCATION:Creative Sparks and Balloonatics\, 42 Phila St.
UID:e.2254.17295
SEQUENCE:3
DTSTAMP:20260421T074615Z
URL:http://saratogatourism-gzcms.preview.gochambermaster.com/events/details/fused-glass-harry-potter-class-07-30-2016-17295
END:VEVENT

END:VCALENDAR
