BEGIN:VCALENDAR
VERSION:2.0
PRODID:-//ChamberMaster//Event Calendar 2.0//EN
METHOD:PUBLISH
X-PUBLISHED-TTL:P3D
REFRESH-INTERVAL:P3D
CALSCALE:GREGORIAN
BEGIN:VEVENT
DTSTART:20150520T143000Z
DTEND:20150520T160000Z
X-MICROSOFT-CDO-ALLDAYEVENT:FALSE
SUMMARY:Fun with Frogs
DESCRIPTION:Introduce your child to the fantastic world of frogs! We will listen to a story and learn frog songs before heading out on a search for these amazing amphibians. Children will also complete a frog-related craft. This program is appropriate for ages 6 and under. Fee is $3 per person or $5 per family. Please call 518-584-2000 Ext. 116 to register.
X-ALT-DESC;FMTTYPE=text/html:Introduce your child to the fantastic world of frogs! We will listen to a story and learn frog songs before heading out on a search for these amazing amphibians. Children will also complete a frog-related craft. This program is appropriate for ages 6 and under. Fee is $3 per person or $5 per family. Please call 518-584-2000 Ext. 116 to register.
LOCATION:Saratoga Spa State Park
UID:e.2254.8330
SEQUENCE:3
DTSTAMP:20260423T151557Z
URL:http://saratogatourism-gzcms.preview.gochambermaster.com/events/details/fun-with-frogs-05-20-2015-8330
END:VEVENT

END:VCALENDAR
