BEGIN:VCALENDAR
VERSION:2.0
PRODID:-//ChamberMaster//Event Calendar 2.0//EN
METHOD:PUBLISH
X-PUBLISHED-TTL:P3D
REFRESH-INTERVAL:P3D
CALSCALE:GREGORIAN
BEGIN:VEVENT
DTSTART:20150430T223000Z
DTEND:20150501T000000Z
X-MICROSOFT-CDO-ALLDAYEVENT:FALSE
SUMMARY:FrogWatch!
DESCRIPTION:Help the Park Naturalist study the frogs that live in Saratoga Spa State Park! We will learn many different frog calls before walking through the wetlands in search of the amphibians. Please bring a flashlight and dress for wet ground. Registration is required. Fee is $3 per person or $5 per family. Please call 518-584-2000 Ext. 116 to register.
X-ALT-DESC;FMTTYPE=text/html:Help the Park Naturalist study the frogs that live in Saratoga Spa State Park! We will learn many different frog calls before walking through the wetlands in search of the amphibians. Please bring a flashlight and dress for wet ground. Registration is required. Fee is $3 per person or $5 per family. Please call 518-584-2000 Ext. 116 to register.
LOCATION:Saratoga Spa State Park
UID:e.2254.7697
SEQUENCE:3
DTSTAMP:20260423T181758Z
URL:http://saratogatourism-gzcms.preview.gochambermaster.com/events/details/frogwatch-04-30-2015-7697
END:VEVENT

END:VCALENDAR
