BEGIN:VCALENDAR
VERSION:2.0
PRODID:-//ChamberMaster//Event Calendar 2.0//EN
METHOD:PUBLISH
X-PUBLISHED-TTL:P3D
REFRESH-INTERVAL:P3D
CALSCALE:GREGORIAN
BEGIN:VEVENT
DTSTART:20160412T160000Z
DTEND:20160413T000000Z
X-MICROSOFT-CDO-ALLDAYEVENT:FALSE
SUMMARY:Free Cone Day at Saratoga Springs Ben & Jerry's
DESCRIPTION:Join us for a free ice cream cone as we thank our community for their support.
X-ALT-DESC;FMTTYPE=text/html:Join us for a free ice cream cone as we thank our community for their support.
LOCATION:34 Phila St.
UID:e.2254.16125
SEQUENCE:3
DTSTAMP:20260421T191658Z
URL:http://saratogatourism-gzcms.preview.gochambermaster.com/events/details/free-cone-day-at-saratoga-springs-ben-jerry-s-04-12-2016-16125
END:VEVENT

END:VCALENDAR
