BEGIN:VCALENDAR
VERSION:2.0
PRODID:-//ChamberMaster//Event Calendar 2.0//EN
METHOD:PUBLISH
X-PUBLISHED-TTL:P3D
REFRESH-INTERVAL:P3D
CALSCALE:GREGORIAN
BEGIN:VEVENT
DTSTART:20160728T163000Z
DTEND:20160728T173000Z
X-MICROSOFT-CDO-ALLDAYEVENT:FALSE
SUMMARY:Fred and Ted Lunch Talks
DESCRIPTION:Fred and Ted Lunch Talks Summer art faculty give 20-minute talks on artists they like and why. 12:30-1:30 p.m.-Saisselin Art Building\, room 308 For more information call 518-580-5084
X-ALT-DESC;FMTTYPE=text/html:Fred and Ted Lunch Talks Summer art faculty give 20-minute talks on artists they like and why. 12:30-1:30 p.m.-Saisselin Art Building\, room 308 For more information call 518-580-5084
LOCATION:Skidmore College\, Saisselin Art Blgd. 815 N Broadway Saratoga Springs\, NY 12866
UID:e.2254.17199
SEQUENCE:3
DTSTAMP:20260421T043918Z
URL:http://saratogatourism-gzcms.preview.gochambermaster.com/events/details/fred-and-ted-lunch-talks-07-28-2016-17199
END:VEVENT

END:VCALENDAR
