BEGIN:VCALENDAR
VERSION:2.0
PRODID:-//ChamberMaster//Event Calendar 2.0//EN
METHOD:PUBLISH
X-PUBLISHED-TTL:P3D
REFRESH-INTERVAL:P3D
CALSCALE:GREGORIAN
BEGIN:VEVENT
DTSTART:20160613T130000Z
DTEND:20160613T200000Z
X-MICROSOFT-CDO-ALLDAYEVENT:FALSE
SUMMARY:Felted Purse with Carol Ingram. #989-0613.
DESCRIPTION:In this class\, we will use Merino wool to create a small seamless purse with a pocket and handle. While exploring the basics of seamless wet felting\, there will be an emphasis on color mixing and surface design. You will be amazed at the beautiful purse you will create in one day! Open to all skill levels.
X-ALT-DESC;FMTTYPE=text/html:In this class\, we will use Merino wool to create a small seamless purse with a pocket and handle. While exploring the basics of seamless wet felting\, there will be an emphasis on color mixing and surface design. You will be amazed at the beautiful purse you will create in one day! Open to all skill levels.
LOCATION:Adirondack Folk School 51 Main Street Lake Luzerne\, NY 12846
UID:e.2254.15262
SEQUENCE:3
DTSTAMP:20260421T061805Z
URL:http://saratogatourism-gzcms.preview.gochambermaster.com/events/details/felted-purse-with-carol-ingram-989-0613-06-13-2016-15262
END:VEVENT

END:VCALENDAR
