BEGIN:VCALENDAR
VERSION:2.0
PRODID:-//ChamberMaster//Event Calendar 2.0//EN
METHOD:PUBLISH
X-PUBLISHED-TTL:P3D
REFRESH-INTERVAL:P3D
CALSCALE:GREGORIAN
BEGIN:VEVENT
DTSTART:20140923T130000Z
DTEND:20140923T160000Z
X-MICROSOFT-CDO-ALLDAYEVENT:FALSE
SUMMARY:Falls Prevention Awareness Day - 09/23/2014
DESCRIPTION:Saratoga County Public Health is offering a free health fair focusing on fall prevention and home safety. Saratoga County Public Health is offering a free event at the Malta Community Center.  Falls Prevention Awareness Day is scheduled for September 23rd from 11am until 2pm.  This open house will showcase the risks of falls and their long term effects on persons of all ages\; there will be medication teaching by a pharmacist\, hearing evaluations from an audiologist\, live demonstrations from an Osteo instructor and Yoga instructor\, blood pressure screenings\, and more.  Please drop by the Malta Community Center on September 23rd anywhere between 11 and 2 for this fun and free event!
X-ALT-DESC;FMTTYPE=text/html:<p>Saratoga County Public Health is offering a free health fair focusing on fall prevention and home safety. </p><span style="font-family: tahoma\; font-size: 19px\; line-height: 22.9786643981934px\; background-color: rgb(255\, 255\, 255)\;">Saratoga County Public Health is offering a free event at the Malta Community Center.&nbsp\; Falls Prevention Awareness Day is scheduled for September 23</span><span style="vertical-align: text-top\; font-family: tahoma\; background-color: rgb(255\, 255\, 255)\;">rd</span><span style="font-family: tahoma\; font-size: 19px\; line-height: 22.9786643981934px\; background-color: rgb(255\, 255\, 255)\;">&nbsp\;from 11am until 2pm.&nbsp\; This open house will showcase the risks of falls and their long term effects on persons of all ages\; there will be medication teaching by a pharmacist\, hearing evaluations from an audiologist\, live demonstrations from an Osteo instructor and Yoga instructor\, blood pressure screenings\, and more.&nbsp\; Please drop by the Malta Community Center on September 23</span><span style="vertical-align: text-top\; font-family: tahoma\; background-color: rgb(255\, 255\, 255)\;">rd</span><span style="font-family: tahoma\; font-size: 19px\; line-height: 22.9786643981934px\; background-color: rgb(255\, 255\, 255)\;">&nbsp\;anywhere between 11 and 2 for this fun and free event!</span><br>
LOCATION:Malta Community Center
UID:e.2254.3983
SEQUENCE:3
DTSTAMP:20260424T085628Z
URL:http://saratogatourism-gzcms.preview.gochambermaster.com/events/details/falls-prevention-awareness-day-09-23-2014-09-23-2014-3983
END:VEVENT

END:VCALENDAR
