BEGIN:VCALENDAR
VERSION:2.0
PRODID:-//ChamberMaster//Event Calendar 2.0//EN
METHOD:PUBLISH
X-PUBLISHED-TTL:P3D
REFRESH-INTERVAL:P3D
CALSCALE:GREGORIAN
BEGIN:VEVENT
DTSTART:20161015T140000Z
DTEND:20161015T185000Z
X-MICROSOFT-CDO-ALLDAYEVENT:FALSE
SUMMARY:Fall Foliage Festival
DESCRIPTION:Enjoy all of the festivities of the fall season with your family aboard the Saratoga & North Creek Railway's Fall Foliage Festival. Climb aboard and let us do the driving so you can enjoy stunning views of the color changes of autumn in the Adirondacks. \n\n\n\nPassengers will be served cider and doughnuts on their Northbound trip. Also\, each child on the train will recieve a pumpkin to paint at the festival! \n\n \n\nFestival Activities:\n\n \n\nThomas the Train Bouncy House\n\nRainbow Slide\n\nHigh Striker\n\nSpike Driving\n\nBirds of Prey Presentation (Saturday)\n\nPetting Zoo\n\nPony Rides\n\nBuild A Friend \n\nScarecrow Contest\n\nBaking Contest (Saturday)\n\nFree Shuttle into Hadley-Luzerne Village Area \n\nArts & Crafts Vendors\n\n \n\nFood:\n\n \n\nPopcorn Machine\n\nCotton Candy Machine\n\nLocal Food Vendors\n\n \n\nInterested in vending at our Fall Foliage Festival? Please email ndroddy@IowaPacific.com for an application.\n\nWant to show off your sweeter side at our baking contest? Please email AGomez-Domenech@iowapacific.com for entry forms and questions.
X-ALT-DESC;FMTTYPE=text/html:<div><span style="font-family:arial\,helvetica\,sans-serif">Enjoy all of the festivities of the fall season with your family aboard the Saratoga &amp\; North Creek Railway&#39\;s Fall Foliage Festival. Climb aboard and let us do the driving so you can enjoy stunning views of the color changes of autumn in the Adirondacks.&nbsp\;<br />\n<br />\nPassengers will be served cider and doughnuts on their Northbound trip. Also\, each child on the train will recieve a pumpkin to paint at the festival!&nbsp\;</span></div>\n\n<div>&nbsp\;</div>\n\n<div><span style="font-family:arial\,helvetica\,sans-serif"><strong>Festival Activities:</strong></span></div>\n\n<div>&nbsp\;</div>\n\n<div><span style="font-family:arial\,helvetica\,sans-serif">Thomas the Train Bouncy House</span></div>\n\n<div><span style="font-family:arial\,helvetica\,sans-serif">Rainbow Slide</span></div>\n\n<div><span style="font-family:arial\,helvetica\,sans-serif">High Striker</span></div>\n\n<div><span style="font-family:arial\,helvetica\,sans-serif">Spike Driving</span></div>\n\n<div><span style="font-family:arial\,helvetica\,sans-serif">Birds of Prey Presentation (Saturday)<br />\nPetting Zoo<br />\nPony Rides</span></div>\n\n<div><span style="font-family:arial\,helvetica\,sans-serif">Build A Friend&nbsp\;</span></div>\n\n<div><span style="font-family:arial\,helvetica\,sans-serif">Scarecrow Contest</span></div>\n\n<div><span style="font-family:arial\,helvetica\,sans-serif">Baking Contest (Saturday)</span></div>\n\n<div><span style="font-family:arial\,helvetica\,sans-serif">Free Shuttle into Hadley-Luzerne Village Area&nbsp\;</span></div>\n\n<div><span style="font-family:arial\,helvetica\,sans-serif">Arts &amp\; Crafts Vendors</span></div>\n\n<div>&nbsp\;</div>\n\n<div><span style="font-family:arial\,helvetica\,sans-serif"><strong>Food:</strong></span></div>\n\n<div>&nbsp\;</div>\n\n<div><span style="font-family:arial\,helvetica\,sans-serif">Popcorn Machine</span></div>\n\n<div><span style="font-family:arial\,helvetica\,sans-serif">Cotton Candy Machine</span></div>\n\n<div><span style="font-family:arial\,helvetica\,sans-serif">Local Food Vendors</span></div>\n\n<div>&nbsp\;</div>\n\n<div><span style="font-family:arial\,helvetica\,sans-serif">Interested in vending at our Fall Foliage Festival? Please email ndroddy@IowaPacific.com for an application.</span></div>\n\n<div><span style="font-family:arial\,helvetica\,sans-serif">Want to show off your sweeter side at our baking contest? Please email AGomez-Domenech@iowapacific.com for entry forms and questions.</span></div>\n\n<div>&nbsp\;</div>\n
LOCATION:Train departs from Saratoga Springs Station (26 Station Lane\, Saratoga Springs\, NY)\, runs to the festival and returns back to the Saratoga Springs Station after the festival has concluded. The Fall Foliage Festival will be held at the Hadley-Luzerne Station (4113 Rockwell Street\, Hadley\, NY)
UID:e.2254.19673
SEQUENCE:3
DTSTAMP:20260420T195341Z
URL:http://saratogatourism-gzcms.preview.gochambermaster.com/events/details/fall-foliage-festival-19673
END:VEVENT

END:VCALENDAR
