BEGIN:VCALENDAR
VERSION:2.0
PRODID:-//ChamberMaster//Event Calendar 2.0//EN
METHOD:PUBLISH
X-PUBLISHED-TTL:P3D
REFRESH-INTERVAL:P3D
CALSCALE:GREGORIAN
BEGIN:VEVENT
DTSTART:20140910T100000Z
DTEND:20140910T180000Z
X-MICROSOFT-CDO-ALLDAYEVENT:FALSE
SUMMARY:ExporTech? Workshop Series - 09/10/2014
DESCRIPTION:take advantage of growth opportunities in global markets\nLearn how to take advantage of growth opportunities in global markets\, and take a proactive and strategic approach to international sales!
X-ALT-DESC;FMTTYPE=text/html:<p>take advantage of growth opportunities in global markets</p>\nLearn how to take advantage of growth opportunities in global markets\, and take a proactive and strategic approach to international sales!
LOCATION:Center for Economic Growth
UID:e.2254.3498
SEQUENCE:3
DTSTAMP:20260424T115124Z
URL:http://saratogatourism-gzcms.preview.gochambermaster.com/events/details/exportech-workshop-series-09-10-2014-09-10-2014-3498
END:VEVENT

END:VCALENDAR
