BEGIN:VCALENDAR
VERSION:2.0
PRODID:-//ChamberMaster//Event Calendar 2.0//EN
METHOD:PUBLISH
X-PUBLISHED-TTL:P3D
REFRESH-INTERVAL:P3D
CALSCALE:GREGORIAN
BEGIN:VEVENT
DTSTART:20150118T000000Z
DTEND:20150118T010000Z
X-MICROSOFT-CDO-ALLDAYEVENT:FALSE
SUMMARY:Exhibition Opening Reception
DESCRIPTION:Join the Hyde's staff\, members\, and friends for the opening reception of a beautiful exhibition. From 6:30pm to 8pm\, warm up on a winter's night with Adirondack-inspired light food and drink.\n\nRSVP by January 9 to Terry Vanier at 518-792-1761\, ext. 346 or tvanier@hydecollection.org.
X-ALT-DESC;FMTTYPE=text/html:<p>Join the Hyde&#39\;s staff\, members\, and friends for the opening reception of a beautiful exhibition. From 6:30pm to 8pm\, warm up on a winter&#39\;s night with Adirondack-inspired light food and drink.</p>\n\n<p>RSVP by January 9 to Terry Vanier at 518-792-1761\, ext. 346 or tvanier@hydecollection.org.</p>\n
LOCATION:The Hyde Collection Art Museum
UID:e.2254.4909
SEQUENCE:3
DTSTAMP:20260424T014852Z
URL:http://saratogatourism-gzcms.preview.gochambermaster.com/events/details/exhibition-opening-reception-01-17-2015-4909
END:VEVENT

END:VCALENDAR
