BEGIN:VCALENDAR
VERSION:2.0
PRODID:-//ChamberMaster//Event Calendar 2.0//EN
METHOD:PUBLISH
X-PUBLISHED-TTL:P3D
REFRESH-INTERVAL:P3D
CALSCALE:GREGORIAN
BEGIN:VEVENT
DTSTART:20140928T140000Z
DTEND:20150104T210000Z
X-MICROSOFT-CDO-ALLDAYEVENT:FALSE
SUMMARY:Exhibition: Anne Diggory: Hybrid Visions - 09/28/2014
DESCRIPTION:This exhibition explores Diggory's multi-layered process combining photography\, digital manipulation\, and painting.  In connection with the exhibition Picturing America: Signature Works from the Westmoreland Museum of American Art\, The Hyde will present an exhibition featuring recent work by the artist Anne Diggory who pictures America through her fresh approach to the Adirondack landscape. Her new work explores “hybrid media\,” a multi-layered process combining photography\, digital manipulation\, and painting.  The resulting disruptions of the surface convey the energy of the artist’s response to dynamic subject matter. The exhibition will feature sixteen dramatic landscapes that juxtapose moving water\, changing skies\, and temporary clutter against the seeming permanence of the American terrain.  \n Anne Diggory: Hybrid Visions is organized by The Hyde Collection    Anne lives in Saratoga Springs\, New York and frequently paints in the Adirondacks. She exhibits extensively in the New York and New England area and is represented by Blue Mountain Gallery in New York City. Her work is in numerous private and corporate collections nationwide\, including purchases by Phoenix Home Life in Albany\, Bessemer Trust in San Francisco\, Adirondack Trust\, and AYCO in Saratoga Springs. Her work has been featured in American Artist\, Adirondack Life\, and The New York Times.
X-ALT-DESC;FMTTYPE=text/html:<p>This exhibition explores Diggory's multi-layered process combining photography\, digital manipulation\, and painting.  </p><p style="line-height: 150%\;"><span style="font-family: 'Calibri Light'\, sans-serif\;">In connection with the exhibition <em>Picturing America: Signature Works from the Westmoreland Museum of American Art</em>\, The Hyde will present an exhibition featuring recent work by the artist Anne Diggory who pictures America through her fresh approach to the Adirondack landscape. Her new work explores “hybrid media\,” a multi-layered process combining photography\, digital manipulation\, and painting. &nbsp\;The resulting disruptions of the surface convey the energy of the artist’s response to dynamic subject matter. The exhibition will feature sixteen dramatic landscapes that juxtapose moving water\, changing skies\, and temporary clutter against the seeming permanence of the American terrain.&nbsp\; <br> <em>Anne Diggory: Hybrid Visions</em> is organized by The Hyde Collection </span></p> <p style="line-height: 150%\;"><span style="font-family: 'Calibri Light'\, sans-serif\;">&nbsp\;</span></p> <p style="line-height: 150%\;"><span style="font-family: 'Calibri Light'\, sans-serif\;">Anne lives in Saratoga Springs\, New York and frequently paints in the Adirondacks. She exhibits extensively in the New York and New England area and is represented by Blue Mountain Gallery in New York City. Her work is in numerous private and corporate collections nationwide\, including purchases by Phoenix Home Life in Albany\, Bessemer Trust in San Francisco\, Adirondack Trust\, and AYCO in Saratoga Springs. Her work has been featured in <em>American Artist</em>\, <em>Adirondack Life</em>\, and <em>The New York Times.</em></span></p>
LOCATION:The Hyde Collection Art Museum
UID:e.2254.3510
SEQUENCE:3
DTSTAMP:20260424T015123Z
URL:http://saratogatourism-gzcms.preview.gochambermaster.com/events/details/exhibition-anne-diggory-hybrid-visions-09-28-2014-09-28-2014-3510
END:VEVENT

END:VCALENDAR
