BEGIN:VCALENDAR
VERSION:2.0
PRODID:-//ChamberMaster//Event Calendar 2.0//EN
METHOD:PUBLISH
X-PUBLISHED-TTL:P3D
REFRESH-INTERVAL:P3D
CALSCALE:GREGORIAN
BEGIN:VEVENT
DTSTART:20160709T133000Z
DTEND:20160710T030000Z
X-MICROSOFT-CDO-ALLDAYEVENT:FALSE
SUMMARY:Exclusive Member’s Only Tour: Saratoga Race Course
DESCRIPTION:The Saratoga Springs Preservation Foundation will host an exclusive\, Member's Only Tour of the Saratoga Race Course on Saturday\, July 9th at 9:30 AM.  SSPF members can get a behind-the-scenes tour of the historic Saratoga Race Course with the Foundation's Executive Director\, Samantha Bosshart\, and Matt Hurff\, of Frost Hurff Architects\, local architect who is currently overseeing several preservation projects at the track.  Not only will people will be able to see the public sides of the track   the Grandstand\, the Clubhouse and the Oklahoma Training Track   but they will also have the rare opportunity to see the original 1847 Race Course\, Horse Haven\, and Clare Court\, the former August Belmont Jr.'s private stabling complex.  The tour meets at the Whitney Viewing Stand of the Oklahoma Training Track.  The cost per tour is $25. Reservations are required\; space is limited to 14.
X-ALT-DESC;FMTTYPE=text/html:The Saratoga Springs Preservation Foundation will host an exclusive\, <strong>Member&rsquo\;s Only Tour of the Saratoga Race Course on Saturday\, July 9<sup>th</sup> at 9:30 AM</strong>.&nbsp\; SSPF members can get a behind-the-scenes tour of the historic Saratoga Race Course with the Foundation&rsquo\;s Executive Director\, Samantha Bosshart\, and Matt Hurff\, of Frost Hurff Architects\, local architect who is currently overseeing several preservation projects at the track.&nbsp\; Not only will people will be able to see the public sides of the track &ndash\; the Grandstand\, the Clubhouse and the Oklahoma Training Track &ndash\; but they will also have the rare opportunity to see the original 1847 Race Course\, Horse Haven\, and Clare Court\, the former August Belmont Jr.&rsquo\;s private stabling complex.&nbsp\; The tour meets at the Whitney Viewing Stand of the Oklahoma Training Track.<strong>&nbsp\; The cost per tour is $25. Reservations are required\; space is limited to 14.</strong>&nbsp\;&nbsp\;
LOCATION:Tour meets at the Whitney Viewing Stand of the Oklahoma Training Track.
UID:e.2254.17142
SEQUENCE:3
DTSTAMP:20260421T031036Z
URL:http://saratogatourism-gzcms.preview.gochambermaster.com/events/details/exclusive-member-s-only-tour-saratoga-race-course-07-09-2016-17142
END:VEVENT

END:VCALENDAR
