BEGIN:VCALENDAR
VERSION:2.0
PRODID:-//ChamberMaster//Event Calendar 2.0//EN
METHOD:PUBLISH
X-PUBLISHED-TTL:P3D
REFRESH-INTERVAL:P3D
CALSCALE:GREGORIAN
BEGIN:VEVENT
DTSTART:20170408T140000Z
DTEND:20170408T170000Z
X-MICROSOFT-CDO-ALLDAYEVENT:FALSE
SUMMARY:Egg-Stravaganza Egg Hunt
DESCRIPTION:Taylor's Heroes Egg-Stravaganza Annual Easter Egg Hunt 10 a.m. to 1 p.m. Saturday April 8 Congress Park\, Saratoga Springs Rain Date Sunday April 9\, 1-4 p.m. at Congress Park Egg hunt\, face painting\, games\, silent auction and more to benefit Taylor's Heroes
X-ALT-DESC;FMTTYPE=text/html:Taylor&rsquo\;s Heroes Egg-Stravaganza Annual Easter Egg Hunt 10 a.m. to 1 p.m. Saturday April 8 Congress Park\, Saratoga Springs Rain Date Sunday April 9\, 1-4 p.m. at Congress Park Egg hunt\, face painting\, games\, silent auction and more to benefit Taylor&#39\;s Heroes
LOCATION:Congress Park\, Saratoga Springs
UID:e.2254.23312
SEQUENCE:3
DTSTAMP:20260420T051806Z
URL:http://saratogatourism-gzcms.preview.gochambermaster.com/events/details/egg-stravaganza-egg-hunt-23312
END:VEVENT

END:VCALENDAR
