BEGIN:VCALENDAR
VERSION:2.0
PRODID:-//ChamberMaster//Event Calendar 2.0//EN
METHOD:PUBLISH
X-PUBLISHED-TTL:P3D
REFRESH-INTERVAL:P3D
CALSCALE:GREGORIAN
BEGIN:VEVENT
DTSTART:20150405T153000Z
DTEND:20150405T183000Z
X-MICROSOFT-CDO-ALLDAYEVENT:FALSE
SUMMARY:Easter Express Brunch Train
DESCRIPTION:Usher in an Adirondack Spring with a reservation on the "Easter Express".  On board our luxurious Dome car\, you and your family will be treated to a fabulous 4-course brunch with appetizers\, soup or salad\, choice of entr e and dessert.  While you enjoy this 3-hour round trip along the Hudson River\, celebrate the beauty of spring\, enjoy the company\, and take in the views as Mother Nature awakens from her long winter's slumber.
X-ALT-DESC;FMTTYPE=text/html:Usher in an Adirondack Spring with a reservation on the &ldquo\;Easter Express&rdquo\;.&nbsp\; On board our luxurious Dome car\, you and your family will be treated to a fabulous 4-course brunch with appetizers\, soup or salad\, choice of entr&eacute\;e and dessert.&nbsp\; While you enjoy this 3-hour round trip along the Hudson River\, celebrate the beauty of spring\, enjoy the company\, and take in the views as Mother Nature awakens from her long winter&rsquo\;s slumber.
LOCATION:Saratoga North Creek Railroad
UID:e.2254.5468
SEQUENCE:3
DTSTAMP:20260423T165545Z
URL:http://saratogatourism-gzcms.preview.gochambermaster.com/events/details/easter-express-brunch-train-04-05-2015-5468
END:VEVENT

END:VCALENDAR
