BEGIN:VCALENDAR
VERSION:2.0
PRODID:-//ChamberMaster//Event Calendar 2.0//EN
METHOD:PUBLISH
X-PUBLISHED-TTL:P3D
REFRESH-INTERVAL:P3D
CALSCALE:GREGORIAN
BEGIN:VEVENT
DTSTART:20170521T160000Z
DTEND:20170521T200000Z
X-MICROSOFT-CDO-ALLDAYEVENT:FALSE
SUMMARY:Drive4URCommunity at MACSC
DESCRIPTION:Come on out and test drive a new Ford from Jack Byrne Ford and help support MACSC!  For every test drive\, Ford Motor Company will donate $20 to MACSC!\n\n\n\nEasy\, no pressure\, fun way to support the Mechanicville Area Community Services Center!
X-ALT-DESC;FMTTYPE=text/html:Come on out and test drive a new Ford from Jack Byrne Ford and help support MACSC! &nbsp\;For every test drive\, Ford Motor Company will donate $20 to MACSC!<br />\n<br />\nEasy\, no pressure\, fun way to support the Mechanicville Area Community Services Center!
LOCATION:MACSC 6 South Main Street Mechanicville\, NY 12118
UID:e.2254.23422
SEQUENCE:3
DTSTAMP:20260420T023513Z
URL:http://saratogatourism-gzcms.preview.gochambermaster.com/events/details/drive4urcommunity-at-macsc-23422
END:VEVENT

END:VCALENDAR
