BEGIN:VCALENDAR
VERSION:2.0
PRODID:-//ChamberMaster//Event Calendar 2.0//EN
METHOD:PUBLISH
X-PUBLISHED-TTL:P3D
REFRESH-INTERVAL:P3D
CALSCALE:GREGORIAN
BEGIN:VEVENT
DTSTART:20161024T223000Z
DTEND:20161025T010000Z
X-MICROSOFT-CDO-ALLDAYEVENT:FALSE
SUMMARY:Dr. Konstantin Frank Wine Dinner
DESCRIPTION:Join us at Forno Bistro on October 24th as we pair five elegant and award-winning Dr. Konstantin Frank Wines with five inspired courses from Executive Chef Ryan McCormick.\n\n\n\nDr. Konstantin Frank Vinifera Wine Cellars on the Keuka Wine Trail in the Finger Lakes specializes in Riesling\, Gewurztraminer\, Pinot Noir\, Chardonnay and more. It is New York's Most Award-winning Winery since 1962 having won an incredible 129 gold medals in 2013 alone.\n\n\n\nDr. Konstantin Frank ignited the "Vinifera Revolution" a movement that forever changed the course of wine growing in the Finger Lakes and the United States. Dr. Frank's vision\, knowledge and determination are credited with elevating the New York wine industry to a level that today commands world attention.\n\n\n\nForno Bistro\n\nOctober 24\, 2016\n\n6:30pm\n\n$65/pp (+tax & tip)\n\n518-581-2401\n\nwww.fornobistro.com
X-ALT-DESC;FMTTYPE=text/html:Join us at Forno Bistro on October 24th as we pair five elegant and award-winning Dr. Konstantin Frank Wines with five inspired courses from Executive Chef Ryan McCormick.<br />\n<br />\nDr. Konstantin Frank Vinifera Wine Cellars on the Keuka Wine Trail in the Finger Lakes specializes in Riesling\, Gewurztraminer\, Pinot Noir\, Chardonnay and more. It is New York&#39\;s Most Award-winning Winery since 1962 having won an incredible 129 gold medals in 2013 alone.<br />\n<br />\nDr. Konstantin Frank ignited the &ldquo\;Vinifera Revolution&rdquo\; a movement that forever changed the course of wine growing in the Finger Lakes and the United States. Dr. Frank&rsquo\;s vision\, knowledge and determination are credited with elevating the New York wine industry to a level that today commands world attention.<br />\n<br />\nForno Bistro<br />\nOctober 24\, 2016<br />\n6:30pm<br />\n$65/pp (+tax &amp\; tip)<br />\n518-581-2401<br />\n<a href="http://www.fornobistro.com/" rel="nofollow nofollow" target="_blank">www.fornobistro.com</a>
LOCATION:Forno Bistro
UID:e.2254.19654
SEQUENCE:3
DTSTAMP:20260420T195049Z
URL:http://saratogatourism-gzcms.preview.gochambermaster.com/events/details/dr-konstantin-frank-wine-dinner-19654
END:VEVENT

END:VCALENDAR
