BEGIN:VCALENDAR
VERSION:2.0
PRODID:-//ChamberMaster//Event Calendar 2.0//EN
METHOD:PUBLISH
X-PUBLISHED-TTL:P3D
REFRESH-INTERVAL:P3D
CALSCALE:GREGORIAN
BEGIN:VEVENT
DTSTART:20160625T210000Z
DTEND:20160626T033000Z
X-MICROSOFT-CDO-ALLDAYEVENT:FALSE
SUMMARY:Double H Ranch Annual Gala
DESCRIPTION:There's nothing like a Double H Ranch Gala!\n\nSaturday\, June 25\, 2016\n\n5:00 pm   11:30 pm\n\nat The Great Escape and Splashwater Kingdom\n\n\n\nHappy Trails for All Ages\n\n\n\nLittle Pioneers\n\nDouble H Ranch is about the kids\; the Gala is no exception!\n\nA kid's ticket includes:\n\n	Admission to the park\n	Kid-friendly dinner\n	Snacks\n	Tickets to play games\n	T-shirt (Graciously donated by Abercrombie & Fitch) \n\nQualified volunteers are available to supervise children aged 6 to 12. Registration is required by 5:30 pm. Older children receive all the same fun but none of the supervision\, unless so desired.\n\n \n\nFrontier Wranglers\n\n \n\nCocktails and Appetizers\n\nWe kick off the evening from 5-7:30pm. Catch up with old friends and make some new ones while you place your bids in the silent auction! Quench your thirst with refreshing cocktails and sample a delicious selection of appetizers at our Food Truck Cocktail Reception! Music by: Stones Mountain Band.\n\n \n\nA new way to feast\n\nOur "Happy Trails" buffet will open at 7:30pm. Bring your appetite to enjoy culinary treasures by Mazzone Hospitality. Dig your cowboy boots in and outbid your friends at our fabulous Live Auction!\n\n \n\nRide into the sunset\n\nHold onto your hat and saddle up to enjoy the rides! Before you go\, we hope you will grab a scoop of Ben & Jerry's "Tonight Dough Starring Jimmy Fallon" ice cream. Each time the "Tonight Dough" is scooped\, the net proceeds will directly benefit SeriousFun Camps.
X-ALT-DESC;FMTTYPE=text/html:There&rsquo\;s nothing like a Double H Ranch Gala!<br />\nSaturday\, June 25\, 2016<br />\n5:00 pm &ndash\; 11:30 pm<br />\nat The Great Escape and Splashwater Kingdom<br />\n<br />\n<strong>Happy Trails for All Ages<br />\n<br />\n<em>Little Pioneers</em></strong><br />\nDouble H Ranch is about the kids\; the Gala is no exception!<br />\nA kid&rsquo\;s ticket includes:\n<ul>\n	<li>Admission to the park</li>\n	<li>Kid-friendly dinner</li>\n	<li>Snacks</li>\n	<li>Tickets to play games</li>\n	<li>T-shirt (Graciously donated by Abercrombie &amp\; Fitch)&nbsp\;</li>\n</ul>\nQualified volunteers are available to supervise children aged 6 to 12. Registration is required by 5:30 pm. Older children receive all the same fun but none of the supervision\, unless so desired.<br />\n&nbsp\;<br />\n<em><strong>Frontier Wranglers</strong></em><br />\n&nbsp\;<br />\n<strong>Cocktails and Appetizers</strong><br />\nWe kick off the evening from 5-7:30pm. Catch up with old friends and make some new ones while you place your bids in the silent auction! Quench your thirst with refreshing cocktails and sample a delicious selection of appetizers at our Food Truck Cocktail Reception! Music by: Stones Mountain Band.<br />\n&nbsp\;<br />\n<strong>A new way to feast</strong><br />\nOur &ldquo\;Happy Trails&rdquo\; buffet will open at 7:30pm. Bring your appetite to enjoy culinary treasures by Mazzone Hospitality. Dig your cowboy boots in and outbid your friends at our fabulous Live Auction!<br />\n&nbsp\;<br />\n<strong>Ride into the sunset</strong><br />\nHold onto your hat and saddle up to enjoy the rides! Before you go\, we hope you will grab a scoop of Ben &amp\; Jerry&rsquo\;s &ldquo\;Tonight Dough Starring Jimmy Fallon&rdquo\; ice cream. Each time the &ldquo\;Tonight Dough&rdquo\; is scooped\, the net proceeds will directly benefit SeriousFun Camps.
LOCATION:The Great Escape and Splashwater Kingdom
UID:e.2254.16825
SEQUENCE:3
DTSTAMP:20260421T074615Z
URL:http://saratogatourism-gzcms.preview.gochambermaster.com/events/details/double-h-ranch-annual-gala-06-25-2016-16825
END:VEVENT

END:VCALENDAR
