BEGIN:VCALENDAR
VERSION:2.0
PRODID:-//ChamberMaster//Event Calendar 2.0//EN
METHOD:PUBLISH
X-PUBLISHED-TTL:P3D
REFRESH-INTERVAL:P3D
CALSCALE:GREGORIAN
BEGIN:VEVENT
DTSTART:20140715T203000Z
DTEND:20140715T220000Z
X-MICROSOFT-CDO-ALLDAYEVENT:FALSE
SUMMARY:DIY: Make Your Own Herbal Aromatherapy Facial Steams - 07/15/2014
DESCRIPTION:.Join Debra Manor\, Certified Clinical Aromatherapist and Herbalist Franesa Pyle for this workshop on how to make your own herbal aromatherapy facial steams.   Using herbal aromatherapy facial steams (also called facial saunas) once a week is an excellent way to cleanse and revitalize your skin (especially good for oily\, acne-prone skin.) Face steams open up the pores\, helping to get rid of excess oil\, along with deep-down dirt and grime. They’re perfect for preparing your skin for a facial mask or other treatment. Facial saunas can also be used to soften stubborn blackheads\, making them easier to remove. We will demonstrate how the facial steam works and also prepare your own herbal facial steam blends to take home.Cost of the class is $35 (includes in class materials).Space is limited. Please RSVP to this class to reserve your seat\, by signing up below or calling (518) 306-4108https://clients.mindbodyonline.com/ws.asp?studioid=48138&sclassid=33&sDate=7/15/2014&sLoc=1&sTG=25&sType=1
X-ALT-DESC;FMTTYPE=text/html:<p>.</p><p><span style="color: rgb(55\, 55\, 54)\;">Join Debra Manor\, Certified Clinical Aromatherapist and Herbalist Franesa Pyle for this workshop on how to make your own <span style="color: rgb(0\, 0\, 0)\;">herbal aromatherapy facial steams</span>. &nbsp\;</span></p><p>&nbsp\;</p><p><span style="color: rgb(0\, 0\, 0)\;">Using herbal aromatherapy facial steams (also called facial saunas)&nbsp\;</span><span style="color: rgb(75\, 0\, 130)\;"><b>once a week</b></span><span style="color: rgb(0\, 0\, 0)\;">&nbsp\;is an excellent way to cleanse and revitalize your skin (especially good for oily\, acne-prone skin.) Face steams&nbsp\;</span><span style="color: rgb(75\, 0\, 130)\;"><b>open up the pores</b></span><span style="color: rgb(0\, 0\, 0)\;">\, helping to&nbsp\;</span><span style="color: rgb(75\, 0\, 130)\;"><b>get rid of excess oil</b></span><span style="color: rgb(0\, 0\, 0)\;">\, along with deep-down dirt and grime.&nbsp\;</span>They’re perfect for preparing your skin for a facial mask or other treatment.&nbsp\;Facial saunas can also be used to&nbsp\;<span style="color: rgb(75\, 0\, 130)\;"><b>soften stubborn blackheads</b></span>\, making them easier to remove.</p><p>&nbsp\;</p><p>We will demonstrate how the facial steam works and also prepare your own herbal facial steam blends to take home.</p><p style="color: rgb(55\, 55\, 54)\;">Cost of the class is $35 (includes in class materials).</p><p style="color: rgb(55\, 55\, 54)\;">Space is limited. Please RSVP to this class to reserve your seat\, by signing up below or calling (518) 306-4108</p><p style="color: rgb(55\, 55\, 54)\;"><a href="https://clients.mindbodyonline.com/ws.asp?studioid=48138&amp\;sclassid=33&amp\;sDate=7/15/2014&amp\;sLoc=1&amp\;sTG=25&amp\;sType=1" target="self"><font color="#0066cc">https://clients.mindbodyonline.com/ws.asp?studioid=48138&amp\;sclassid=33&amp\;sDate=7/15/2014&amp\;sLoc=1&amp\;sTG=25&amp\;sType=1</font></a> </p>
LOCATION:Saratoga Botanicals
UID:e.2254.3420
SEQUENCE:3
DTSTAMP:20260424T160622Z
URL:http://saratogatourism-gzcms.preview.gochambermaster.com/events/details/diy-make-your-own-herbal-aromatherapy-facial-steams-07-15-2014-07-15-2014-3420
END:VEVENT

END:VCALENDAR
