BEGIN:VCALENDAR
VERSION:2.0
PRODID:-//ChamberMaster//Event Calendar 2.0//EN
METHOD:PUBLISH
X-PUBLISHED-TTL:P3D
REFRESH-INTERVAL:P3D
CALSCALE:GREGORIAN
BEGIN:VEVENT
DTSTART:20160925T190000Z
DTEND:20160925T200000Z
X-MICROSOFT-CDO-ALLDAYEVENT:FALSE
SUMMARY:deBlasiis Fall Music Series: Rolf Schulte\, violin and James Winn\, piano
DESCRIPTION:Rolf Schulte's brilliant career has garnered such praise as "Sensation at the Berlin Festival [Complete Stravinsky violin works]  Paganini-like Violinist". With James Winn at the paino\, the New York Times says "Weber's Four Pieces were magnificently presented\, both by Mr. Schulte and his accompanist\, James Winn. They took exquisite care over detail and over matching one another in the quiet music\, where the feeling was still but fully alive."   Paul Griffiths\, The New York Times\n\n \n\n3pm\n\n \n\nJoin us at The Hyde at 3:00 PM Sunday\, September 25th for some truly world class music making.
X-ALT-DESC;FMTTYPE=text/html:<span style="font-size:12pt"><span style="font-family:calibri">Rolf Schulte&rsquo\;s brilliant career has garnered such praise as &ldquo\;Sensation at the Berlin Festival [Complete Stravinsky violin works]&hellip\; Paganini-like Violinist&rdquo\;. With James Winn at the paino\, the New York Times says &ldquo\;Weber&rsquo\;s Four Pieces were magnificently presented\, both by Mr. Schulte and his accompanist\, James Winn. They took exquisite care over detail and over matching one another in the quiet music\, where the feeling was still but fully alive.&rdquo\; &ndash\; Paul Griffiths\, <strong><em>The New York Times</em></strong></span></span><br />\n&nbsp\;<br />\n<span style="font-size:12pt"><span style="font-family:calibri">3pm</span></span><br />\n&nbsp\;<br />\n<span style="font-size:12pt"><span style="font-family:calibri">Join us at The Hyde at 3:00 PM Sunday\, September 25<sup>th</sup> for some truly world class music making.</span></span><br />\n&nbsp\;
LOCATION:The Hyde Collection\, 161 Warren St.\, Glens Falls\, NY 12801
UID:e.2254.17352
SEQUENCE:3
DTSTAMP:20260420T214138Z
URL:http://saratogatourism-gzcms.preview.gochambermaster.com/events/details/deblasiis-fall-music-series-rolf-schulte-violin-and-james-winn-piano-09-25-2016-17352
END:VEVENT

END:VCALENDAR
