BEGIN:VCALENDAR
VERSION:2.0
PRODID:-//ChamberMaster//Event Calendar 2.0//EN
METHOD:PUBLISH
X-PUBLISHED-TTL:P3D
REFRESH-INTERVAL:P3D
CALSCALE:GREGORIAN
BEGIN:VEVENT
DTSTART:20160324T213000Z
DTEND:20160324T230000Z
X-MICROSOFT-CDO-ALLDAYEVENT:FALSE
SUMMARY:David H. Porter Classical World Lecture
DESCRIPTION:David H. Porter Classical World Lecture: "The Death of Caesar" by Barry Strauss\, the Bowmar Professor in Humanistic Studies at Cornell University. 5:30 p.m.-Davis Auditorium For more information call 518-580-5400
X-ALT-DESC;FMTTYPE=text/html:David H. Porter Classical World Lecture: &quot\;The Death of Caesar&quot\; by Barry Strauss\, the Bowmar Professor in Humanistic Studies at Cornell University. 5:30 p.m.-Davis Auditorium For more information call 518-580-5400
LOCATION:Skidmore College\, Davis Auditorium 815 North Broadway Saratoga Springs\, NY 12866
UID:e.2254.14954
SEQUENCE:3
DTSTAMP:20260421T235823Z
URL:http://saratogatourism-gzcms.preview.gochambermaster.com/events/details/david-h-porter-classical-world-lecture-03-24-2016-14954
END:VEVENT

END:VCALENDAR
