BEGIN:VCALENDAR
VERSION:2.0
PRODID:-//ChamberMaster//Event Calendar 2.0//EN
METHOD:PUBLISH
X-PUBLISHED-TTL:P3D
REFRESH-INTERVAL:P3D
CALSCALE:GREGORIAN
BEGIN:VEVENT
DTSTART:20170128T180000Z
DTEND:20170128T200000Z
X-MICROSOFT-CDO-ALLDAYEVENT:FALSE
SUMMARY:Creative Spirits: Tangles and Tea
DESCRIPTION:Relieve stress with friends while creating your own artwork with beautiful patterns and textures. Using colored pencil and ink pen\, participants will create their own adult coloring book page based on one of the masterpieces in the collection. Enjoy a selection of tea themed on the art\, and delicious pastries as you create. RSVP by calling 518-792-1761\, ext. 310\, or emailing adminassist@hydecollection.org.
X-ALT-DESC;FMTTYPE=text/html:Relieve stress with friends while creating your own artwork with beautiful patterns and textures. Using colored pencil and ink pen\, participants will create their own adult coloring book page based on one of the masterpieces in the collection. Enjoy a selection of tea themed on the art\, and delicious pastries as you create. RSVP by calling 518-792-1761\, ext. 310\, or emailing adminassist@hydecollection.org.
LOCATION:The Hyde Collection 161 Warren St. Glens Falls\, NY 12801
UID:e.2254.21787
SEQUENCE:3
DTSTAMP:20260420T153627Z
URL:http://saratogatourism-gzcms.preview.gochambermaster.com/events/details/creative-spirits-tangles-and-tea-21787
END:VEVENT

END:VCALENDAR
