BEGIN:VCALENDAR
VERSION:2.0
PRODID:-//ChamberMaster//Event Calendar 2.0//EN
METHOD:PUBLISH
X-PUBLISHED-TTL:P3D
REFRESH-INTERVAL:P3D
CALSCALE:GREGORIAN
BEGIN:VEVENT
DTSTART:20170427T230000Z
DTEND:20170428T010000Z
X-MICROSOFT-CDO-ALLDAYEVENT:FALSE
SUMMARY:Creative Spirits: Pinot and Picasso
DESCRIPTION:Create your own Picasso-inspired artwork using mixed media. Enjoy wine samples while we mix up your artwork in the Cubist spirit. RSVP by contacting Colette at 518-792-1761 ext. 310 or adminassist@hydecollection.org.
X-ALT-DESC;FMTTYPE=text/html:Create your own Picasso-inspired artwork using mixed media. Enjoy wine samples while we mix up your artwork in the Cubist spirit. RSVP by contacting Colette at 518-792-1761 ext. 310 or adminassist@hydecollection.org.
LOCATION:The Hyde Collection
UID:e.2254.23025
SEQUENCE:3
DTSTAMP:20260420T034922Z
URL:http://saratogatourism-gzcms.preview.gochambermaster.com/events/details/creative-spirits-pinot-and-picasso-23025
END:VEVENT

END:VCALENDAR
