BEGIN:VCALENDAR
VERSION:2.0
PRODID:-//ChamberMaster//Event Calendar 2.0//EN
METHOD:PUBLISH
X-PUBLISHED-TTL:P3D
REFRESH-INTERVAL:P3D
CALSCALE:GREGORIAN
BEGIN:VEVENT
DTSTART:20140916T193000Z
DTEND:20140916T210000Z
X-MICROSOFT-CDO-ALLDAYEVENT:FALSE
SUMMARY:Constitution Day Lecture Series - 09/16/2014
DESCRIPTION:Constitution Day Lecture Series"The Written Constitution and the Unwritten Tradition of Common Law\," by James R. Stoner\, department of political science\, Louisiana State University. 5:30 p.m.-Pohndorff Room\, Scribner Library For more information call 518-580-5240
X-ALT-DESC;FMTTYPE=text/html:<p>Constitution Day Lecture Series</p><p>"<span style="color: black\;">The Written Constitution and the Unwritten Tradition of Common Law\,"</span> <span>by James R. Stoner\, department of political science\, Louisiana State University.</span></p> <p>5:30 p.m.-Pohndorff Room\, Scribner Library</p> <span style="font-size: 12pt\; font-family: Times New Roman\,serif\;">For more information call 518-580-5240</span>
LOCATION:Pohndorff Room\, Scribner Library
UID:e.2254.3540
SEQUENCE:3
DTSTAMP:20260424T121735Z
URL:http://saratogatourism-gzcms.preview.gochambermaster.com/events/details/constitution-day-lecture-series-09-16-2014-09-16-2014-3540
END:VEVENT

END:VCALENDAR
