BEGIN:VCALENDAR
VERSION:2.0
PRODID:-//ChamberMaster//Event Calendar 2.0//EN
METHOD:PUBLISH
X-PUBLISHED-TTL:P3D
REFRESH-INTERVAL:P3D
CALSCALE:GREGORIAN
BEGIN:VEVENT
DTSTART:20150419T180000Z
DTEND:20150419T200000Z
X-MICROSOFT-CDO-ALLDAYEVENT:FALSE
SUMMARY:Concert: Skidmore Community Chorus and Vocal Chamber Ensemble
DESCRIPTION:Concert: Skidmore Community Chorus and Vocal Chamber Ensemble: "A Spring Blossom of Youth" This celebration of childhood and springtime centers on the acclaimed composition of John Corigliano's adaptation of Dylan Thomas's Fern Hill\, and the Vocal Chamber Ensemble will perform Per Norgard's Wie ein Kind. Featuring Patricia Hadfield\, piano\; Joshua Rodriguez\, violin: and Elizabeth Huntley\, harp. Directed by Katie Gardiner. $8 adults\, $5 senior citizens and Skidmore community\; free for students and children 2 p.m.-Arthur Zankel Music Center\, Ladd Concert Hall For more information call 518-580-5321 or go to www.skidmore.edu/Zankel
X-ALT-DESC;FMTTYPE=text/html:Concert: Skidmore Community Chorus and Vocal Chamber Ensemble: &quot\;A Spring Blossom of Youth&quot\; This celebration of childhood and springtime centers on the acclaimed composition of John Corigliano&#39\;s adaptation of Dylan Thomas&#39\;s Fern Hill\, and the Vocal Chamber Ensemble will perform Per Norgard&#39\;s Wie ein Kind. Featuring Patricia Hadfield\, piano\; Joshua Rodriguez\, violin: and Elizabeth Huntley\, harp. Directed by Katie Gardiner. $8 adults\, $5 senior citizens and Skidmore community\; free for students and children 2 p.m.-Arthur Zankel Music Center\, Ladd Concert Hall For more information call 518-580-5321 or go to www.skidmore.edu/Zankel
LOCATION:Skidmore College\, Arthur Zankel Music Center 815 N. Broadway Saratoga Springs\, NY 12866
UID:e.2254.7732
SEQUENCE:3
DTSTAMP:20260423T195627Z
URL:http://saratogatourism-gzcms.preview.gochambermaster.com/events/details/concert-skidmore-community-chorus-and-vocal-chamber-ensemble-04-19-2015-7732
END:VEVENT

END:VCALENDAR
