BEGIN:VCALENDAR
VERSION:2.0
PRODID:-//ChamberMaster//Event Calendar 2.0//EN
METHOD:PUBLISH
X-PUBLISHED-TTL:P3D
REFRESH-INTERVAL:P3D
CALSCALE:GREGORIAN
BEGIN:VEVENT
DTSTART:20160306T010000Z
DTEND:20160306T030000Z
X-MICROSOFT-CDO-ALLDAYEVENT:FALSE
SUMMARY:Concert: Skidmore College Orchestra
DESCRIPTION:Concert: Skidmore College Orchestra 8 p.m.-Arthur Zankel Music Center $8 adults\, $5 senior citizens and Skidmore community\, free for students and children For ticket information call 518-580-5321 or go to www.skidmore.edu/zankel
X-ALT-DESC;FMTTYPE=text/html:Concert: Skidmore College Orchestra 8 p.m.-Arthur Zankel Music Center $8 adults\, $5 senior citizens and Skidmore community\, free for students and children For ticket information call 518-580-5321 or go to www.skidmore.edu/zankel
LOCATION:Skidmore College\, Arthur Zankel Music Center 815 North Broadway Saratoga Springs\, NY 12866
UID:e.2254.14945
SEQUENCE:3
DTSTAMP:20260422T000045Z
URL:http://saratogatourism-gzcms.preview.gochambermaster.com/events/details/concert-skidmore-college-orchestra-03-05-2016-14945
END:VEVENT

END:VCALENDAR
