BEGIN:VCALENDAR
VERSION:2.0
PRODID:-//ChamberMaster//Event Calendar 2.0//EN
METHOD:PUBLISH
X-PUBLISHED-TTL:P3D
REFRESH-INTERVAL:P3D
CALSCALE:GREGORIAN
BEGIN:VEVENT
DTSTART:20150314T180000Z
DTEND:20150314T200000Z
X-MICROSOFT-CDO-ALLDAYEVENT:FALSE
SUMMARY:Concert: Glens Falls Symphony
DESCRIPTION:Concert: Glens Falls Symphony 2 p.m.-Arthur Zankel Music Center\, Ladd Concert Hall For more information call 518-580-5321 or go to www.skidmore.edu/Zankel For ticket information go to www.theglensfallssymphony.org
X-ALT-DESC;FMTTYPE=text/html:Concert: Glens Falls Symphony 2 p.m.-Arthur Zankel Music Center\, Ladd Concert Hall For more information call 518-580-5321 or go to www.skidmore.edu/Zankel For ticket information go to www.theglensfallssymphony.org
LOCATION:Arthur Zankel Music Center Skidmore College 815 N Broadway Saratoga Springs\, NY 12866
UID:e.2254.6694
SEQUENCE:3
DTSTAMP:20260423T195044Z
URL:http://saratogatourism-gzcms.preview.gochambermaster.com/events/details/concert-glens-falls-symphony-03-14-2015-6694
END:VEVENT

END:VCALENDAR
