BEGIN:VCALENDAR
VERSION:2.0
PRODID:-//ChamberMaster//Event Calendar 2.0//EN
METHOD:PUBLISH
X-PUBLISHED-TTL:P3D
REFRESH-INTERVAL:P3D
CALSCALE:GREGORIAN
BEGIN:VEVENT
DTSTART:20140916T203000Z
DTEND:20140916T220000Z
X-MICROSOFT-CDO-ALLDAYEVENT:FALSE
SUMMARY:Composer and Conductor in Conversation - 09/16/2014
DESCRIPTION:Composer and Conductor in Conversation Tang Museum: I was a double gallery talk with composer David Lang and conductor David Alan Miller with performance by Ashley Bathgate. 6:30 p.m.-Tang Museum For more information call 518-580-5590
X-ALT-DESC;FMTTYPE=text/html:<p>Composer and Conductor in Conversation </p><p><span>Tang Museum: <em>I was a double</em> gallery talk with </span><span style="background: white\;">composer David Lang and conductor David Alan Miller with performance by Ashley Bathgate.</span></p> <p><span style="background: white\;">6:30 p.m.-Tang Museum</span></p> <span style="font-size: 12pt\; font-family: Times New Roman\,serif\; background: white\;">For more information call 518-580-5590</span>
LOCATION:Tang Museum\, Skidmore College
UID:e.2254.3541
SEQUENCE:3
DTSTAMP:20260424T122604Z
URL:http://saratogatourism-gzcms.preview.gochambermaster.com/events/details/composer-and-conductor-in-conversation-09-16-2014-09-16-2014-3541
END:VEVENT

END:VCALENDAR
