BEGIN:VCALENDAR
VERSION:2.0
PRODID:-//ChamberMaster//Event Calendar 2.0//EN
METHOD:PUBLISH
X-PUBLISHED-TTL:P3D
REFRESH-INTERVAL:P3D
CALSCALE:GREGORIAN
BEGIN:VEVENT
DTSTART:20150228T010000Z
DTEND:20150228T030000Z
X-MICROSOFT-CDO-ALLDAYEVENT:FALSE
SUMMARY:Comedy's Best Kept Secret Tour
DESCRIPTION:Come see what happens when four National touring Comedians embark on a road trip from New York City to Anchorage Alaska to perform in all points in between. Dan Frigolette @danfrigolette (Boardwalk Empire\, Totally Biased\, Artie Lange Show) Erik Anker @erikforserious (The Meltdown\, SXSW\, Road Hard Movie) John Saponaro @john_saponaro (Finalist- Make Me Laugh Albany) Matt Richards @imattrichards (BET\, SpikeTV\, Oxygen) are Comedy's Best Kept Secret -- amazingly talented comedians who haven't made it into the limelight...yet. Proven comedians nationally and throughout the New York and Boston comedy circuits\, and now going coast to coast to keep Comedy's Best Kept Secret.
X-ALT-DESC;FMTTYPE=text/html:Come see what happens when four National touring Comedians embark on a road trip from New York City to Anchorage Alaska to perform in all points in between. Dan Frigolette @danfrigolette (Boardwalk Empire\, Totally Biased\, Artie Lange Show) Erik Anker @erikforserious (The Meltdown\, SXSW\, Road Hard Movie) John Saponaro @john_saponaro (Finalist- Make Me Laugh Albany) Matt Richards @imattrichards (BET\, SpikeTV\, Oxygen) are Comedy&#39\;s Best Kept Secret -- amazingly talented comedians who haven&#39\;t made it into the limelight...yet. Proven comedians nationally and throughout the New York and Boston comedy circuits\, and now going coast to coast to keep Comedy&#39\;s Best Kept Secret.
LOCATION:The Parting Glass Pub 40 Lake Avenue\, Saratoga Springs\, NY 12866
UID:e.2254.6049
SEQUENCE:3
DTSTAMP:20260423T225423Z
URL:http://saratogatourism-gzcms.preview.gochambermaster.com/events/details/comedy-s-best-kept-secret-tour-02-27-2015-6049
END:VEVENT

END:VCALENDAR
