BEGIN:VCALENDAR
VERSION:2.0
PRODID:-//ChamberMaster//Event Calendar 2.0//EN
METHOD:PUBLISH
X-PUBLISHED-TTL:P3D
REFRESH-INTERVAL:P3D
CALSCALE:GREGORIAN
BEGIN:VEVENT
DTSTART:20150521T113000Z
DTEND:20150521T130000Z
X-MICROSOFT-CDO-ALLDAYEVENT:FALSE
SUMMARY:Collaborative Third Thursday Breakfast with Skidmore College
DESCRIPTION:There are various projects and efforts happening to make Saratoga County a more eco-friendly community. From solar and wind power\, to new structural designs\, "going green" is becoming more and more of a business practice. With that\, the Saratoga County Chamber of Commerce will partner with Skidmore College to bring you a collaborative breakfast to give those businesses going green a platform to speak about how they are making Saratoga County a more efficient place to live work and play. While this breakfast is complimentary\, pre-reservation is appreciated.
X-ALT-DESC;FMTTYPE=text/html:There are various projects and efforts happening to make Saratoga County a more eco-friendly community. From solar and wind power\, to new structural designs\, &ldquo\;going green&rdquo\; is becoming more and more of a business practice. With that\, the Saratoga County Chamber of Commerce will partner with Skidmore College to bring you a collaborative breakfast to give those businesses going green a platform to speak about how they are making Saratoga County a more efficient place to live work and play. While this breakfast is complimentary\, pre-reservation is appreciated.
LOCATION:Skidmore College\, Murray Atkins Dining Hall (2nd Floor) 815 North Broadway Saratoga Springs\, NY 12866
UID:e.2254.7651
SEQUENCE:3
DTSTAMP:20260423T151553Z
URL:http://saratogatourism-gzcms.preview.gochambermaster.com/events/details/collaborative-third-thursday-breakfast-with-skidmore-college-05-21-2015-7651
END:VEVENT

END:VCALENDAR
