BEGIN:VCALENDAR
VERSION:2.0
PRODID:-//ChamberMaster//Event Calendar 2.0//EN
METHOD:PUBLISH
X-PUBLISHED-TTL:P3D
REFRESH-INTERVAL:P3D
CALSCALE:GREGORIAN
BEGIN:VEVENT
DTSTART:20150610T213000Z
DTEND:20150610T230000Z
X-MICROSOFT-CDO-ALLDAYEVENT:FALSE
SUMMARY:Collaborative Mixer with the Ballston Spa Business & Professional Association
DESCRIPTION:The Ballston Spa Business and Professional Association\, in partnership with the Saratoga Chamber of Commerce\, will be holding a Networking Mixer on Wednesday\, June 10 from 5:30  7 pm at Local 388 Burger Bar\, 388 Milton Avenue in Ballston Spa.  We are additionally inviting members of all our neighboring business associations in Malta\, Burnt Hills-Ballston Lake and Greenfield to enjoy a summer evening networking with business and community members.\n\n \n\nLocal 388 Burger Bar\, one of Ballston Spa's newest eating establishments\, is already making a name for itself as a farm to table restaurant featuring grass fed USDA Prime Angus beef burgers\, locally sourced produce\, cheeses and bakeries\, meaning the "Local" in its name is well earned.  Owner Paul Pruitt and staff pride themselves on their individually hand-formed specialty burgers\, served with fresh cut fries.  They also offer chicken and vegetarian options and salads\, house-made sodas and shakes\, along with beer and wine highlighted by New York's finest craft beers and micro-brews. A cash bar will be available that evening. \n\n \n\nCost is just $10 per person. There will be walk-in registration available at the door that evening. For more information\, please contact Ellen at info@ballston.org or 885-2772.
X-ALT-DESC;FMTTYPE=text/html:<span style="font-family:constantia\,serif\;"><span style="font-size:10.0pt\;">The Ballston Spa Business and Professional Association\, in partnership with the Saratoga Chamber of Commerce\, will be holding a Networking Mixer on Wednesday\, June 10 from 5:30&ndash\; 7 pm at Local 388 Burger Bar\, 388 Milton Avenue in Ballston Spa.&nbsp\; We are additionally inviting members of all our neighboring business associations in Malta\, Burnt Hills-Ballston Lake and Greenfield to enjoy a summer evening networking with business and community members.</span></span><br />\n&nbsp\;<br />\n<span style="font-family:constantia\,serif\;"><span style="font-size:10.0pt\;">Local 388 Burger Bar\, one of Ballston Spa&#39\;s newest eating establishments\, is already making a name for itself as a farm to table restaurant featuring grass fed USDA Prime Angus beef burgers\, locally sourced produce\, cheeses and bakeries\, meaning the &quot\;Local&quot\; in its name is well earned.&nbsp\; Owner Paul Pruitt and staff pride themselves on their individually hand-formed specialty burgers\, served with fresh cut fries.&nbsp\; They also offer chicken and vegetarian options and salads\, house-made sodas and shakes\, along with&nbsp\;beer and wine highlighted by New York&#39\;s finest craft beers and micro-brews. A cash bar will be available that evening. </span></span><br />\n&nbsp\;<br />\n<span style="font-family:constantia\,serif\;"><span style="font-size:10.0pt\;">Cost is just $10 per person.&nbsp\;There will be walk-in registration available at the door that evening. For more information\, please contact Ellen at <a href="mailto:info@ballston.org">info@ballston.org</a> or 885-2772.</span></span>
LOCATION:Local 388 Burger Bar 388 Milton Avenue Ballston Spa
UID:e.2254.8350
SEQUENCE:3
DTSTAMP:20260423T070559Z
URL:http://saratogatourism-gzcms.preview.gochambermaster.com/events/details/collaborative-mixer-with-the-ballston-spa-business-professional-association-06-10-2015-8350
END:VEVENT

END:VCALENDAR
