BEGIN:VCALENDAR
VERSION:2.0
PRODID:-//ChamberMaster//Event Calendar 2.0//EN
METHOD:PUBLISH
X-PUBLISHED-TTL:P3D
REFRESH-INTERVAL:P3D
CALSCALE:GREGORIAN
BEGIN:VEVENT
DTSTART:20150708T170000Z
DTEND:20150708T190000Z
X-MICROSOFT-CDO-ALLDAYEVENT:FALSE
SUMMARY:Children's Program:Toys and Games
DESCRIPTION:Educator Shari Crawford delights children while teaching them about the lives of youngsters in 18th-century America
X-ALT-DESC;FMTTYPE=text/html:Educator Shari Crawford delights children while teaching them about the lives of youngsters in 18th-century America
LOCATION:Battlefield Visitor Center Saratoga National Historical Park
UID:e.2254.6175
SEQUENCE:3
DTSTAMP:20260423T033714Z
URL:http://saratogatourism-gzcms.preview.gochambermaster.com/events/details/children-s-program-toys-and-games-07-08-2015-6175
END:VEVENT

END:VCALENDAR
